BEGIN:VCALENDAR
VERSION:2.0
PRODID:-//ChamberMaster//Event Calendar 2.0//EN
METHOD:PUBLISH
X-PUBLISHED-TTL:P3D
REFRESH-INTERVAL:P3D
CALSCALE:GREGORIAN
BEGIN:VEVENT
DTSTART:20161022T000000Z
DTEND:20161022T030000Z
X-MICROSOFT-CDO-ALLDAYEVENT:FALSE
SUMMARY:Haunted Acres (Mature Audiences Only)
DESCRIPTION:So scary it's for mature audiences only!\n\nNot suitable for children.\n\n\n\nWe scare you to benefit local food shelves and community needs!
X-ALT-DESC;FMTTYPE=text/html:So scary it&#39\;s for mature audiences only!<br />\nNot suitable for children.<br />\n<br />\nWe scare you to benefit local food shelves and community needs!
LOCATION:Corcoran Lions Park
UID:e.1321.1992
SEQUENCE:3
DTSTAMP:20260421T200948Z
URL:https://business.i94westchamber.org/events/details/haunted-acres-mature-audiences-only-10-21-2016-1992
END:VEVENT

END:VCALENDAR
