BEGIN:VCALENDAR
VERSION:2.0
PRODID:-//ChamberMaster//Event Calendar 2.0//EN
METHOD:PUBLISH
X-PUBLISHED-TTL:P3D
REFRESH-INTERVAL:P3D
CALSCALE:GREGORIAN
BEGIN:VEVENT
DTSTART:20161030T210000Z
DTEND:20161030T223000Z
X-MICROSOFT-CDO-ALLDAYEVENT:FALSE
SUMMARY:Haunted Glow "N" Skate
DESCRIPTION:Open Skating\n\n$5 admission includes glow necklace\n\nCome in costume and Trick or Treat\n\nAll ages welcome
X-ALT-DESC;FMTTYPE=text/html:Open Skating<br />\n$5 admission includes glow necklace<br />\n<span style="font-family:helvetica\,arial\,sans-serif\; font-size:12px">Come in costume and Trick or Treat</span><br />\nAll ages welcome<br />\n&nbsp\;
LOCATION:Rogers Activity Center 21080 141st Ave. Rogers\, MN 55374
UID:e.1321.2467
SEQUENCE:3
DTSTAMP:20260421T185827Z
URL:https://business.i94westchamber.org/events/details/haunted-glow-n-skate-2467
END:VEVENT

END:VCALENDAR
