BEGIN:VCALENDAR
VERSION:2.0
PRODID:-//ChamberMaster//Event Calendar 2.0//EN
METHOD:PUBLISH
X-PUBLISHED-TTL:P3D
REFRESH-INTERVAL:P3D
CALSCALE:GREGORIAN
BEGIN:VEVENT
DTSTART:20170111T230000Z
DTEND:20170112T020000Z
X-MICROSOFT-CDO-ALLDAYEVENT:FALSE
SUMMARY:Healthy Living Expo
DESCRIPTION:Join Us for a Healthy Living Expo sponsored by Healthsource of Rogers!\n\n\n\nFood\, Wine\, Door Prizes!!\n\n\n\nHeather Peabody from the Peabody Players\n\nPrimerica\n\nRodan & Fields\n\nNorwex\n\nRapha Health & Wellness\n\nHealthy Oils\n\nand more....
X-ALT-DESC;FMTTYPE=text/html:Join Us for a Healthy Living Expo sponsored by Healthsource of Rogers!<br />\n<br />\nFood\, Wine\, Door Prizes!!<br />\n<br />\nHeather Peabody from the Peabody Players<br />\nPrimerica<br />\nRodan &amp\; Fields<br />\nNorwex<br />\nRapha Health &amp\; Wellness<br />\nHealthy Oils<br />\nand more....<br />\n<br />\n&nbsp\;
LOCATION:Rogers Community Room 21201 Memorial Dr\, Rogers\, MN 55374
UID:e.1321.2463
SEQUENCE:3
DTSTAMP:20260421T144224Z
URL:https://business.i94westchamber.org/events/details/healthy-living-expo-2463
END:VEVENT

END:VCALENDAR
