BEGIN:VCALENDAR
VERSION:2.0
PRODID:-//ChamberMaster//Event Calendar 2.0//EN
METHOD:PUBLISH
X-PUBLISHED-TTL:P3D
REFRESH-INTERVAL:P3D
CALSCALE:GREGORIAN
BEGIN:VEVENT
DTSTART:20170415T130000Z
DTEND:20170415T210000Z
X-MICROSOFT-CDO-ALLDAYEVENT:FALSE
SUMMARY:Heidi's Grow Haus
DESCRIPTION:Saturday\, April 15th   8:00 AM   4:00 PM\n\nOur dreams for our new Nursery and Retail Centre have taken root!\n\nIt's time to Celebrate!\n\nFun\, Family-Friendly Activities\n\nPansies and Pussy Willows!\n\nSpring Savings on Home\, Garden and Landscape products
X-ALT-DESC;FMTTYPE=text/html:<h2 style="text-align: center\;"><strong>Saturday\, April 15th &ndash\; 8:00 AM &ndash\; 4:00 PM</strong></h2>\n\n<h3 style="text-align: center\;"><strong>Our dreams for our new Nursery and Retail Centre have taken root!</strong></h3>\n\n<h4 style="text-align: center\;"><strong>It&rsquo\;s time to Celebrate!</strong></h4>\n\n<h5 style="text-align: center\;">Fun\, Family-Friendly Activities</h5>\n\n<h5 style="text-align: center\;">Pansies and Pussy Willows!</h5>\n\n<h5 style="text-align: center\;">Spring Savings on Home\, Garden and Landscape products</h5>\n
LOCATION:Heidi's Grow Haus 7555 County Rd 116 Corcoran\, MN
UID:e.1321.2970
SEQUENCE:3
DTSTAMP:20260421T113121Z
URL:https://business.i94westchamber.org/events/details/heidi-s-grow-haus-2970
END:VEVENT

END:VCALENDAR
