BEGIN:VCALENDAR
VERSION:2.0
PRODID:-//ChamberMaster//Event Calendar 2.0//EN
METHOD:PUBLISH
X-PUBLISHED-TTL:P3D
REFRESH-INTERVAL:P3D
CALSCALE:GREGORIAN
BEGIN:VEVENT
DTSTART:20150205T170000Z
DTEND:20150205T190000Z
X-MICROSOFT-CDO-ALLDAYEVENT:FALSE
SUMMARY:Hiring Fair at the Wellstead of Rogers
DESCRIPTION:Currently Hiring LPN's\, Medication Assistants\, CNA's\, Resident Assistants\, Activity Assistants\, Dietary Aides\, & Kitchen Assistants.
X-ALT-DESC;FMTTYPE=text/html:Currently Hiring LPN&#39\;s\, Medication Assistants\, CNA&#39\;s\, Resident Assistants\, Activity Assistants\, Dietary Aides\, &amp\; Kitchen Assistants.
LOCATION:The Crown Room Banquet Center 20600 South Diamond Lake Road Rogers\, MN 55374
UID:e.1321.1425
SEQUENCE:3
DTSTAMP:20260424T101046Z
URL:https://business.i94westchamber.org/events/details/hiring-fair-at-the-wellstead-of-rogers-02-05-2015-1425
END:VEVENT

END:VCALENDAR
