BEGIN:VCALENDAR
VERSION:2.0
PRODID:-//ChamberMaster//Event Calendar 2.0//EN
METHOD:PUBLISH
X-PUBLISHED-TTL:P3D
REFRESH-INTERVAL:P3D
CALSCALE:GREGORIAN
BEGIN:VEVENT
DTSTART:20161112T150000Z
DTEND:20161112T190000Z
X-MICROSOFT-CDO-ALLDAYEVENT:FALSE
SUMMARY:Holiday Bazaar
DESCRIPTION:HOLIDAY BAZAAR\n\nSaturday\, Nov. 12\n\n9 a.m. to 1 p.m.\n\nMary Queen of Peace ~ St. Martin Social Hall\n\n21304 Church Ave. Rogers\, MN\n\nSHOP ~ Crafts\, & Baked Goods\n\nGrandma's Christmas Attic\, Children's Books & Puzzles\n\nWIN ~ Silent Auction & Raffle items\n\nENJOY ~ delicious food & fellowship\n\nFree coffee all day!
X-ALT-DESC;FMTTYPE=text/html:HOLIDAY BAZAAR<br />\nSaturday\, Nov. 12<br />\n9 a.m. to 1 p.m.<br />\nMary Queen of Peace ~ St. Martin Social Hall<br />\n21304 Church Ave. Rogers\, MN<br />\nSHOP ~ Crafts\, &amp\; Baked Goods<br />\nGrandma&#39\;s Christmas Attic\, Children&#39\;s Books &amp\; Puzzles<br />\nWIN ~ Silent Auction &amp\; Raffle items<br />\nENJOY ~ delicious food &amp\; fellowship<br />\nFree coffee all day!
LOCATION:
UID:e.1321.2503
SEQUENCE:3
DTSTAMP:20260421T183835Z
URL:https://business.i94westchamber.org/events/details/holiday-bazaar-2503
END:VEVENT

END:VCALENDAR
