BEGIN:VCALENDAR
VERSION:2.0
PRODID:-//ChamberMaster//Event Calendar 2.0//EN
METHOD:PUBLISH
X-PUBLISHED-TTL:P3D
REFRESH-INTERVAL:P3D
CALSCALE:GREGORIAN
BEGIN:VEVENT
DTSTART:20141202T003000Z
DTEND:20141202T010000Z
X-MICROSOFT-CDO-ALLDAYEVENT:FALSE
SUMMARY:Holiday Music
DESCRIPTION:Holiday Music with Paul Imholte\n\n\n\nPerformance\, Legacy Event\, \n\nBranch: Saint Michael\n\nDate: Mon Dec 1\, 2014\n\nAgegroups: All Ages\, Family\, Adults\n\nTime: 6:30 PM - 7:30 PM\n\nPresenter: Paul Imholte\n\nSee Paul Imholte\, who can play just about any stringed instrument imaginable\, perform at the library. Everyone is welcome. For all ages. A Legacy event. No registration required.
X-ALT-DESC;FMTTYPE=text/html:<h1 class="title">Holiday Music with Paul Imholte</h1>\n<!-- /#content-header -->\n\n<div id="content-body">\n<p><em>Performance\, Legacy Event\, </em></p>\n\n<p>Branch: <a href="http://www.griver.org/locations-and-hours/great-river-regional-library-st-michael"><font color="#0066cc">Saint Michael</font></a><br />\nDate: Mon Dec 1\, 2014<br />\nAgegroups: All Ages\, Family\, Adults<br />\nTime: 6:30 PM - 7:30 PM<br />\nPresenter: Paul Imholte</p>\n\n<p>See Paul Imholte\, who can play just about any stringed instrument imaginable\, perform at the library. Everyone is welcome. For all ages. A Legacy event. No registration required.</p>\n</div>\n
LOCATION:St. Michael Public Library 11800 Town Center Drive NE Suite 100 St. Michael\, MN 55376 Phone: 763-497-1998
UID:e.1321.1273
SEQUENCE:3
DTSTAMP:20260424T141627Z
URL:https://business.i94westchamber.org/events/details/holiday-music-12-01-2014-1273
END:VEVENT

END:VCALENDAR
