BEGIN:VCALENDAR
VERSION:2.0
PRODID:-//ChamberMaster//Event Calendar 2.0//EN
METHOD:PUBLISH
X-PUBLISHED-TTL:P3D
REFRESH-INTERVAL:P3D
CALSCALE:GREGORIAN
BEGIN:VEVENT
DTSTART:20141115T160000Z
DTEND:20141115T180000Z
X-MICROSOFT-CDO-ALLDAYEVENT:FALSE
SUMMARY:Holiday Open House / Vendor Fair Extravaganza
DESCRIPTION:
X-ALT-DESC;FMTTYPE=text/html:<table border="0" cellpadding="0" cellspacing="1" class="MsoNormalTable" style="width: 307.5pt\; mso-cellspacing: .7pt\; mso-yfti-tbllook: 1184\; mso-padding-alt: 0in 0in 0in 0in\;" width="410">\n	<tbody>\n		<tr style="mso-yfti-irow: 0\; mso-yfti-firstrow: yes\; mso-yfti-lastrow: yes\;">\n			<td style="padding: 0.75pt\; border: rgb(0\, 0\, 0)\; background-color: transparent\;">\n			<p class="MsoNormal" style="margin: 0in 0in 0pt\;">&nbsp\;</p>\n			</td>\n			<td style="padding: 0.75pt\; border: rgb(0\, 0\, 0)\; background-color: transparent\;">\n			<p class="MsoNormal" style="margin: 0in 0in 0pt\;">&nbsp\;</p>\n			</td>\n		</tr>\n	</tbody>\n</table>\n\n<p><br />\n&nbsp\;</p>\n
LOCATION:23553 Birch Circle Rogers\, MN
UID:e.1321.1294
SEQUENCE:3
DTSTAMP:20260424T141913Z
URL:https://business.i94westchamber.org/events/details/holiday-open-house-vendor-fair-extravaganza-11-15-2014-1294
END:VEVENT

END:VCALENDAR
