BEGIN:VCALENDAR
VERSION:2.0
PRODID:-//ChamberMaster//Event Calendar 2.0//EN
METHOD:PUBLISH
X-PUBLISHED-TTL:P3D
REFRESH-INTERVAL:P3D
CALSCALE:GREGORIAN
BEGIN:VEVENT
DTSTART:20150108T223000Z
DTEND:20150109T003000Z
X-MICROSOFT-CDO-ALLDAYEVENT:FALSE
SUMMARY:I-94 Networkers
DESCRIPTION:The monthly I-94 Networkers Events will be returning in January 2015\, with the first monthly event being held on Thursday January 8th (always the second Thursday of the month) at River City Extreme in Monticello\, MN from 4:30 p.m. till 6:30 p.m.  Please see the attached flyer and below for additional details.\n\n \n\n2014 Statistics/Bulletpoints for I-94 Networkers\n\n \n\n	The 1-94 Networkers events began in May 2014\, with five (5) total events being held in May\, June\, August\, October & November.\n	Approximately 110 different individuals have attended at least one of the events.\n	The total number of attendees\, including repeat attendees\, is approximately 160 people.\n	The average attendance per event was approximately 32 people.\n	This email invitation is sent to 250+ individuals each month.\n	Flyers are also distributed in person and the message is passed via word of mouth each month.\n\n \n\nWhat do the above statistics tell us?  Each month you have a great opportunity to grow your professional network with new contacts each and every month!\n\n \n\nItem of Note\n\nSheila and I will continue to compile the contact information of those that RSVP and will distribute the contact information to those in attendance at the event.  However\, we will begin tracking the RSVP'd list against those in actual attendance.  For those individuals that miss two consecutive events after RSVP'ing to the event\, your contact information will not be distributed on the list going forward until you attend another event.  This will be done to provide the greatest benefit to those in attendance.  After all\, networking isn't meant to be a passive endeavor!\n\n \n\nWhen: Thursday January 8th\n\nTime: 4:30 p.m. - 6:30 p.m.\n\nCost: Free to Attend (cash bar and happy hour menu available)\n\nLocation: River City Extreme   3875 School Blvd Monticello MN 55362\n\n \n\nThis month's event will be held in the Legends Club at River City Extreme\, which is centrally located near the bar by the bowling lanes.  \n\n \n\nPlease RSVP for the event by Monday January 5th to either Sheila Zachman (szachman@commrealtysolutions.com) or Eric O'Brien (eric.obrien@fa-bank.net)
X-ALT-DESC;FMTTYPE=text/html:<span style="font-size: medium\;"><span style="font-family: calibri\;">The monthly I-94 Networkers Events will be returning in January 2015\, with the first monthly event being held on Thursday January 8<sup><span style="font-size: small\;">th</span></sup> (always the second Thursday of the month) at River City Extreme in Monticello\, MN from 4:30 p.m. till 6:30 p.m.&nbsp\; Please see the attached flyer and below for additional details.</span></span><br />\n&nbsp\;<br />\n<strong><u><span style="font-size: medium\;"><span style="font-family: calibri\;">2014 Statistics/Bulletpoints for I-94 Networkers</span></span></u></strong><br />\n&nbsp\;\n<ul>\n	<li><span style="font-size: medium\;">The 1-94 Networkers events began in May 2014\, with five (5) total events being held in May\, June\, August\, October &amp\; November.</span></li>\n	<li><span style="font-size: medium\;">Approximately 110 different individuals have attended at least one of the events.</span></li>\n	<li><span style="font-size: medium\;">The total number of attendees\, including repeat attendees\, is approximately 160 people.</span></li>\n	<li><span style="font-size: medium\;">The average attendance per event was approximately 32 people.</span></li>\n	<li><span style="font-size: medium\;">This email invitation is sent to 250+ individuals each month.</span></li>\n	<li><span style="font-size: medium\;">Flyers are also distributed in person and the message is passed via word of mouth each month.</span></li>\n</ul>\n&nbsp\;<br />\n<span style="font-size: medium\;"><span style="font-family: calibri\;">What do the above statistics tell us?&nbsp\; Each month you have a great opportunity to grow your professional network with new contacts each and every month!</span></span><br />\n&nbsp\;<br />\n<strong><u><span style="font-size: medium\;"><span style="font-family: calibri\;">Item of Note</span></span></u></strong><br />\n<span style="font-size: medium\;"><span style="font-family: calibri\;">Sheila and I will continue to compile the contact information of those that RSVP and will distribute the contact information to those in attendance at the event.&nbsp\; However\, we will begin tracking the RSVP&rsquo\;d list against those in actual attendance.&nbsp\; For those individuals that miss two consecutive events after RSVP&rsquo\;ing to the event\, your contact information will not be distributed on the list going forward until you attend another event.&nbsp\; This will be done to provide the greatest benefit to those in attendance.&nbsp\; After all\, networking isn&rsquo\;t meant to be a passive endeavor!</span></span><br />\n&nbsp\;<br />\n<strong><span style="font-size: 12pt\;"><span style="font-family: times new roman\,serif\;">When:</span></span></strong><span style="font-size: 12pt\;"><span style="font-family: times new roman\,serif\;"> Thursday January 8th</span></span><br />\n<strong><span style="font-size: 12pt\;"><span style="font-family: times new roman\,serif\;">Time:</span></span></strong><span style="font-size: 12pt\;"><span style="font-family: times new roman\,serif\;"> 4:30 p.m. - 6:30 p.m.</span></span><br />\n<strong><span style="font-size: 12pt\;"><span style="font-family: times new roman\,serif\;">Cost:</span></span></strong><span style="font-size: 12pt\;"><span style="font-family: times new roman\,serif\;"> Free to Attend (cash bar and happy hour menu available)</span></span><br />\n<strong><span style="font-size: 12pt\;"><span style="font-family: times new roman\,serif\;">Location:</span></span></strong><span style="font-size: 12pt\;"><span style="font-family: times new roman\,serif\;"> River City Extreme &ndash\; 3875 School Blvd Monticello MN 55362</span></span><br />\n&nbsp\;<br />\n<span style="font-size: medium\;"><span style="font-family: calibri\;"><u><span style="background: yellow\;">This month&rsquo\;s event will be held in the Legends Club at River City Extreme\, which is centrally located near the bar by the bowling lanes</span></u>.&nbsp\; </span></span><br />\n&nbsp\;<br />\n<span style="font-size: medium\;"><span style="font-family: calibri\;">Please RSVP for the event by Monday January 5<sup><span style="font-size: small\;">th</span></sup> to either Sheila Zachman (</span></span><a href="mailto:szachman@commrealtysolutions.com"><span style="font-size: medium\;"><span style="font-family: calibri\;"><span style="color: rgb(0\, 0\, 255)\;">szachman@commrealtysolutions.com</span></span></span></a><span style="font-size: medium\;"><span style="font-family: calibri\;">) or Eric O&rsquo\;Brien (</span></span><a href="mailto:eric.obrien@fa-bank.net"><span style="font-size: medium\;"><span style="font-family: calibri\;"><span style="color: rgb(0\, 0\, 255)\;">eric.obrien@fa-bank.net</span></span></span></a><span style="font-size: medium\;"><span style="font-family: calibri\;">)</span></span><br />\n&nbsp\;
LOCATION:
UID:e.1321.1370
SEQUENCE:3
DTSTAMP:20260424T111605Z
URL:https://business.i94westchamber.org/events/details/i-94-networkers-01-08-2015-1370
END:VEVENT

END:VCALENDAR
