BEGIN:VCALENDAR
VERSION:2.0
PRODID:-//ChamberMaster//Event Calendar 2.0//EN
METHOD:PUBLISH
X-PUBLISHED-TTL:P3D
REFRESH-INTERVAL:P3D
CALSCALE:GREGORIAN
BEGIN:VEVENT
DTSTART:20160414T213000Z
DTEND:20160414T233000Z
X-MICROSOFT-CDO-ALLDAYEVENT:FALSE
SUMMARY:I-94 Networkers
DESCRIPTION:This networking event is designed for individuals doing business along the I-94 corridor that are looking to grow their professional network.\n\n\n\nPlease RSVP via email. Upon arriving at the event\, a listing of attendees will be provided to each participant.
X-ALT-DESC;FMTTYPE=text/html:This networking event is designed for individuals doing business along the I-94 corridor that are looking to grow their professional network.<br />\n<br />\nPlease RSVP via email. Upon arriving at the event\, a listing of attendees will be provided to each participant.
LOCATION:River City Extreme 3875 School Blvd Monticello\, MN 55362
UID:e.1321.1898
SEQUENCE:3
DTSTAMP:20260422T041746Z
URL:https://business.i94westchamber.org/events/details/i-94-networkers-04-14-2016-1898
END:VEVENT

END:VCALENDAR
