BEGIN:VCALENDAR
VERSION:2.0
PRODID:-//ChamberMaster//Event Calendar 2.0//EN
METHOD:PUBLISH
X-PUBLISHED-TTL:P3D
REFRESH-INTERVAL:P3D
CALSCALE:GREGORIAN
BEGIN:VEVENT
DTSTART:20150507T213000Z
DTEND:20150507T233000Z
X-MICROSOFT-CDO-ALLDAYEVENT:FALSE
SUMMARY:I-94 Networkers
DESCRIPTION:As we've said in the past the I-94 Networkers events are normally held on the second Thursday of each month.  However\, in May\, the date will change to the first Thursday of the month due to a scheduling conflict May 14th.  The Monticello Chamber of Commerce Golf Tournament is scheduled for that day and both myself and Sheila will be attending the tournament.  Therefore the event is being moved to one week early and will be held on Thursday May 7th.\n\n*****Please RSVP by Monday May 4th*****\n\nWhen:                 Thursday May 7th\n\nTime:                    4:30 p.m.   6:30 p.m.\n\nCost:                      Free to Attend (cash bar and happy hour menu available)\n\nLocation:             River City Extreme   3875 School Blvd Monticello MN 55362\n\n \n\nThis month's event will be held in the Restaurant at River City Extreme\, which is located next door to the Foul Line Bar\n\n \n\nPlease RSVP for the event by Monday May 4th to either Sheila Zachman (szachman@commrealtysolutions.com) or Eric O'Brien (eric.obrien@fa-bank.net)\n\n \n\nPlease share this email and flyer with anyone that you think would like to attend.  Thanks!
X-ALT-DESC;FMTTYPE=text/html:As we&rsquo\;ve said in the past the I-94 Networkers events are normally held on the second Thursday of each month.&nbsp\; However\, in May\, the date will change to the first Thursday of the month due to a scheduling conflict May 14<sup>th</sup>.&nbsp\; The Monticello Chamber of Commerce Golf Tournament is scheduled for that day and both myself and Sheila will be attending the tournament.&nbsp\; Therefore the event is being moved to one week early and will be held on Thursday May 7<sup>th</sup>.<br />\n*****Please RSVP by Monday May 4th*****<br />\n<strong>When: &nbsp\;&nbsp\;&nbsp\;&nbsp\;&nbsp\;&nbsp\;&nbsp\;&nbsp\;&nbsp\;&nbsp\;&nbsp\;&nbsp\;&nbsp\;&nbsp\;&nbsp\; </strong>Thursday May 7<sup>th</sup><br />\n<strong>Time: &nbsp\;&nbsp\; &nbsp\;&nbsp\;&nbsp\;&nbsp\;&nbsp\;&nbsp\;&nbsp\;&nbsp\;&nbsp\;&nbsp\;&nbsp\;&nbsp\;&nbsp\;&nbsp\;&nbsp\; </strong>4:30 p.m. &ndash\; 6:30 p.m.<br />\n<strong>Cost:&nbsp\;&nbsp\;&nbsp\;&nbsp\;&nbsp\; &nbsp\;&nbsp\;&nbsp\;&nbsp\;&nbsp\;&nbsp\;&nbsp\;&nbsp\;&nbsp\;&nbsp\;&nbsp\;&nbsp\;&nbsp\;&nbsp\;&nbsp\; </strong>Free to Attend (cash bar and happy hour menu available)<br />\n<strong>Location:&nbsp\;&nbsp\;&nbsp\;&nbsp\;&nbsp\;&nbsp\;&nbsp\;&nbsp\;&nbsp\;&nbsp\;&nbsp\;&nbsp\; </strong>River City Extreme &ndash\; 3875 School Blvd Monticello MN 55362<br />\n&nbsp\;<br />\n<u>This month&rsquo\;s event will be held in the Restaurant at River City Extreme\, which is located next door to the Foul Line Bar</u><br />\n&nbsp\;<br />\nPlease RSVP for the event by Monday May 4<sup>th</sup> to either Sheila Zachman (<a href="mailto:szachman@commrealtysolutions.com">szachman@commrealtysolutions.com</a>) or Eric O&rsquo\;Brien (<a href="mailto:eric.obrien@fa-bank.net">eric.obrien@fa-bank.net</a>)<br />\n&nbsp\;<br />\nPlease share this email and flyer with anyone that you think would like to attend.&nbsp\; Thanks!<br />\n&nbsp\;<br />\n&nbsp\;
LOCATION:
UID:e.1321.1546
SEQUENCE:3
DTSTAMP:20260422T183418Z
URL:https://business.i94westchamber.org/events/details/i-94-networkers-05-07-2015-1546
END:VEVENT

END:VCALENDAR
