BEGIN:VCALENDAR
VERSION:2.0
PRODID:-//ChamberMaster//Event Calendar 2.0//EN
METHOD:PUBLISH
X-PUBLISHED-TTL:P3D
REFRESH-INTERVAL:P3D
CALSCALE:GREGORIAN
BEGIN:VEVENT
DTSTART:20150813T213000Z
DTEND:20150813T233000Z
X-MICROSOFT-CDO-ALLDAYEVENT:FALSE
SUMMARY:I-94 Networkers
DESCRIPTION:This networking event is designed for individuals doing buiness along the I-94 corridor that are looking to grow their professional network.  The event will be a free and open format event\, however we are asking for interested parties to RSVP via email (event co-sponsors emails are below).  Upon arriving at the event\, a listing of attendees will be provided to each participant to better facilitate connections\, both at the meeting and for follow-up after the event.\n\n\n\nThe co-sponsors are inviting their respective networks\, but feel free to share this anyone that might be interested.\n\n \n\nWhen: Thursday\, August 13\n\nTime: 4:30 p.m. - 6:30 p.m.\n\nCost: Free to Attend (cash bar and happy hour menu available)\n\nLocation: River City Extreme \n\n3875 School Blvd Monticello MN 55362\n\n \n\nPlease RSVP for the event by 8/11/15 to either\n\nSheila Zachman (szachman@commrealtysolutions.com) or\n\nEric O'Brien (eric.obrien@fa-bank.net)
X-ALT-DESC;FMTTYPE=text/html:This networking event is designed for individuals doing buiness along the I-94 corridor that are looking to grow their professional network.&nbsp\; The event will be a free and open format event\, however we are asking for interested parties to RSVP via email (event co-sponsors emails are below).&nbsp\; Upon arriving at the event\, a listing of attendees will be provided to each participant to better facilitate connections\, both at the meeting and for follow-up after the event.<br />\n<br />\nThe co-sponsors are inviting their respective networks\, but feel free to share this anyone that might be interested.<br />\n&nbsp\;<br />\n<strong><span style="font-size: 12pt\;"><span style="font-family: times new roman\,serif\;">When:</span></span></strong><span style="font-size: 12pt\;"><span style="font-family: times new roman\,serif\;"> Thursday\, August 13</span></span><br />\n<strong><span style="font-size: 12pt\;"><span style="font-family: times new roman\,serif\;">Time:</span></span></strong><span style="font-size: 12pt\;"><span style="font-family: times new roman\,serif\;"> 4:30 p.m. - 6:30 p.m.</span></span><br />\n<strong><span style="font-size: 12pt\;"><span style="font-family: times new roman\,serif\;">Cost:</span></span></strong><span style="font-size: 12pt\;"><span style="font-family: times new roman\,serif\;"> Free to Attend (cash bar and happy hour menu available)</span></span><br />\n<strong><span style="font-size: 12pt\;"><span style="font-family: times new roman\,serif\;">Location:</span></span></strong><span style="font-size: 12pt\;"><span style="font-family: times new roman\,serif\;"> River City Extreme&nbsp\;<br />\n3875 School Blvd Monticello MN 55362</span></span><br />\n&nbsp\;<br />\n<span style="font-size: medium\;"><span style="font-family: calibri\;">Please RSVP for the event by 8/11/15 to either<br />\nSheila Zachman (</span></span><a href="mailto:szachman@commrealtysolutions.com"><span style="font-size: medium\;"><span style="font-family: calibri\;"><span style="color: rgb(0\, 0\, 255)\;">szachman@commrealtysolutions.com</span></span></span></a><span style="font-size: medium\;"><span style="font-family: calibri\;">) or<br />\nEric O&rsquo\;Brien (</span></span><a href="mailto:eric.obrien@fa-bank.net"><span style="font-size: medium\;"><span style="font-family: calibri\;"><span style="color: rgb(0\, 0\, 255)\;">eric.obrien@fa-bank.net</span></span></span></a><span style="font-size: medium\;"><span style="font-family: calibri\;">)</span></span><br />\n&nbsp\;
LOCATION:River City Extreme 3875 School Blvd Monticello\, MN 55362
UID:e.1321.1676
SEQUENCE:3
DTSTAMP:20260422T141723Z
URL:https://business.i94westchamber.org/events/details/i-94-networkers-08-13-2015-1676
END:VEVENT

END:VCALENDAR
