BEGIN:VCALENDAR
VERSION:2.0
PRODID:-//ChamberMaster//Event Calendar 2.0//EN
METHOD:PUBLISH
X-PUBLISHED-TTL:P3D
REFRESH-INTERVAL:P3D
CALSCALE:GREGORIAN
BEGIN:VEVENT
DTSTART:20161110T223000Z
DTEND:20161111T003000Z
X-MICROSOFT-CDO-ALLDAYEVENT:FALSE
SUMMARY:I-94 Networkers Happy Hour
DESCRIPTION:Good Morning\,\n\nThe next I-94 Networkers meeting will be held on Thursday November 10th from 4:30 p.m. till 6:30 p.m. in the smaller conference room near the bowling lanes.  The restaurant is now open on Thursday evenings\, so our location has been moved permanently.\n\nWhat:  I-94 Networkers\n\nWhen:  Thursday November 10th\n\nTime:  4:30 p.m. till 6:30 p.m.\n\nWhere: River City Extreme - 3875 School Blvd Monticello\, MN\n\nThe event will be held in the smaller conference room located near the bowling lanes.  The venue will have signage pointing to the location.\n\nPlease RSVP to either myself\, eric@acumenbusinesssolutions.com or Sheila Zachman at szachman@commrealtysolutions.com  by 9:00 a.m. on Wednesday November 9th.
X-ALT-DESC;FMTTYPE=text/html:Good Morning\,<br />\nThe next I-94 Networkers meeting will be held on Thursday November 10th from 4:30 p.m. till 6:30 p.m. in the smaller conference room near the bowling lanes.&nbsp\; The restaurant is now open on Thursday evenings\, so our location has been moved permanently.<br />\nWhat:&nbsp\; I-94 Networkers<br />\nWhen:&nbsp\; Thursday November 10th<br />\nTime:&nbsp\; 4:30 p.m. till 6:30 p.m.<br />\nWhere: River City Extreme - 3875 School Blvd Monticello\, MN<br />\nThe event will be held in the smaller conference room located near the bowling lanes.&nbsp\; The venue will have signage pointing to the location.<br />\nPlease RSVP to either myself\, <a href="mailto:eric@acumenbusinesssolutions.com">eric@acumenbusinesssolutions.com</a> or Sheila Zachman at <a href="mailto:szachman@commrealtysolutions.com">szachman@commrealtysolutions.com</a>&nbsp\; by 9:00 a.m. on Wednesday November 9th.
LOCATION:
UID:e.1321.2518
SEQUENCE:3
DTSTAMP:20260421T184100Z
URL:https://business.i94westchamber.org/events/details/i-94-networkers-happy-hour-2518
END:VEVENT

END:VCALENDAR
