BEGIN:VCALENDAR
VERSION:2.0
PRODID:-//ChamberMaster//Event Calendar 2.0//EN
METHOD:PUBLISH
X-PUBLISHED-TTL:P3D
REFRESH-INTERVAL:P3D
CALSCALE:GREGORIAN
BEGIN:VEVENT
DTSTART:20170511T213000Z
DTEND:20170511T233000Z
X-MICROSOFT-CDO-ALLDAYEVENT:FALSE
SUMMARY:I-94 Networkers Happy Hour
DESCRIPTION:The next I-94 Networkers meeting will be held on Thursday May 11th from 4:30 p.m. till 6:30 p.m. at River City Extreme in the restaurant portion\, which is closed on Thursday evenings.\n\nWhat:  I-94 Networkers\n\nWhen:  Thursday May 11th\n\nTime:  4:30 p.m. till 6:30 p.m.\n\nWhere: River City Extreme - 3875 School Blvd Monticello\, MN\n\nThe event will be held in the restaurant portion\, which is closed on Thursday.  The venue will have signage pointing to the location.
X-ALT-DESC;FMTTYPE=text/html:The next I-94 Networkers meeting will be held on Thursday May 11th from&nbsp\;4:30 p.m. till 6:30 p.m. at River City Extreme&nbsp\;in the restaurant portion\, which is closed on Thursday evenings.<br />\nWhat:&nbsp\; I-94 Networkers<br />\nWhen:&nbsp\; Thursday May 11th<br />\nTime:&nbsp\;&nbsp\;4:30 p.m. till 6:30 p.m.<br />\nWhere: River City Extreme - 3875 School Blvd Monticello\, MN<br />\nThe event will be held in the restaurant portion\, which is closed on Thursday.&nbsp\; The venue will have signage pointing to the location.<br />\n&nbsp\;
LOCATION:River City Extreme 3875 School Blvd\, Monticello\, MN 55362
UID:e.1321.2992
SEQUENCE:3
DTSTAMP:20260421T083049Z
URL:https://business.i94westchamber.org/events/details/i-94-networkers-happy-hour-2992
END:VEVENT

END:VCALENDAR
