BEGIN:VCALENDAR
VERSION:2.0
PRODID:-//ChamberMaster//Event Calendar 2.0//EN
METHOD:PUBLISH
X-PUBLISHED-TTL:P3D
REFRESH-INTERVAL:P3D
CALSCALE:GREGORIAN
BEGIN:VEVENT
DTSTART:20161113T010000Z
DTEND:20161113T050000Z
X-MICROSOFT-CDO-ALLDAYEVENT:FALSE
SUMMARY:Ignite the Night
DESCRIPTION:Join us as we launch the 2016 Sleep Out! Together we will "ignite the night: with hundreds of lit luminaries representing the new look of Interfaith Outreach.
X-ALT-DESC;FMTTYPE=text/html:Join us as we launch the 2016 Sleep Out! Together we will &quot\;ignite the night: with hundreds of lit luminaries representing the new look of Interfaith Outreach.
LOCATION:Interfaith Outreach 1605 County Road 101 N
UID:e.1321.2483
SEQUENCE:3
DTSTAMP:20260421T172218Z
URL:https://business.i94westchamber.org/events/details/ignite-the-night-2483
END:VEVENT

END:VCALENDAR
