BEGIN:VCALENDAR
VERSION:2.0
PRODID:-//ChamberMaster//Event Calendar 2.0//EN
METHOD:PUBLISH
X-PUBLISHED-TTL:P3D
REFRESH-INTERVAL:P3D
CALSCALE:GREGORIAN
BEGIN:VEVENT
DTSTART:20170125T143000Z
DTEND:20170125T200000Z
X-MICROSOFT-CDO-ALLDAYEVENT:FALSE
SUMMARY:Introduction to Exporting Seminar
DESCRIPTION:Whether your business is new to exporting or wants to expand your global presence\, this seminar is for you. Questions?\n\n\n\nEd Dieter\, MN Trade Office\n\ned.dieter@state.mn.us.
X-ALT-DESC;FMTTYPE=text/html:Whether your business is new to exporting or wants to expand your global presence\, this seminar is for you. Questions?<br />\n<br />\nEd Dieter\, MN Trade Office<br />\ned.dieter@state.mn.us.
LOCATION:
UID:e.1321.2595
SEQUENCE:3
DTSTAMP:20260421T143653Z
URL:https://business.i94westchamber.org/events/details/introduction-to-exporting-seminar-2595
END:VEVENT

END:VCALENDAR
