BEGIN:VCALENDAR
VERSION:2.0
PRODID:-//ChamberMaster//Event Calendar 2.0//EN
METHOD:PUBLISH
X-PUBLISHED-TTL:P3D
REFRESH-INTERVAL:P3D
CALSCALE:GREGORIAN
BEGIN:VEVENT
DTSTART:20170408T153000Z
DTEND:20170408T163000Z
X-MICROSOFT-CDO-ALLDAYEVENT:FALSE
SUMMARY:Jack and Kitty Music Show
DESCRIPTION:Enjoy fun\, interactive acoustic/folk music by Jack and Kitty\, an Emmy Award-winning acoustic duo. You will learn and be entertained!
X-ALT-DESC;FMTTYPE=text/html:Enjoy fun\, interactive acoustic/folk music by Jack and Kitty\, an Emmy Award-winning acoustic duo. You will learn and be entertained!
LOCATION:Rogers Library.
UID:e.1321.2915
SEQUENCE:3
DTSTAMP:20260421T100118Z
URL:https://business.i94westchamber.org/events/details/jack-and-kitty-music-show-2915
END:VEVENT

END:VCALENDAR
