BEGIN:VCALENDAR
VERSION:2.0
PRODID:-//ChamberMaster//Event Calendar 2.0//EN
METHOD:PUBLISH
X-PUBLISHED-TTL:P3D
REFRESH-INTERVAL:P3D
CALSCALE:GREGORIAN
BEGIN:VEVENT
DTSTART:20170118T001500Z
DTEND:20170118T020000Z
X-MICROSOFT-CDO-ALLDAYEVENT:FALSE
SUMMARY:January Health Talk - FREE
DESCRIPTION:
X-ALT-DESC;FMTTYPE=text/html:
LOCATION:
UID:e.1321.2596
SEQUENCE:3
DTSTAMP:20260421T144223Z
URL:https://business.i94westchamber.org/events/details/january-health-talk-free-2596
END:VEVENT

END:VCALENDAR
