BEGIN:VCALENDAR
VERSION:2.0
PRODID:-//ChamberMaster//Event Calendar 2.0//EN
METHOD:PUBLISH
X-PUBLISHED-TTL:P3D
REFRESH-INTERVAL:P3D
CALSCALE:GREGORIAN
BEGIN:VEVENT
DTSTART:20140717T153000Z
DTEND:20140717T230000Z
X-MICROSOFT-CDO-ALLDAYEVENT:FALSE
SUMMARY:Jason Lach Invitational
DESCRIPTION:Swing It For A Great Charity! Jason and Sara Lach of Blaine\, MN are honored to host the upcoming golf tournament on Thursday July 17th\, 2014 at Riverwood National Golf Course in Otsego\, MN followed by Dinner\, Auction and Awards Ceremony. We will be raising money for Special Olympics Minnesota\, an organization devoted to providing sports competition opportunities for athletes with intellectual Disabilities.
X-ALT-DESC;FMTTYPE=text/html:Swing It For A Great Charity! Jason and Sara Lach of Blaine\, MN are honored to host the upcoming golf tournament on Thursday July 17th\, 2014 at Riverwood National Golf Course in Otsego\, MN followed by Dinner\, Auction and Awards Ceremony. We will be raising money for Special Olympics Minnesota\, an organization devoted to providing sports competition opportunities for athletes with intellectual Disabilities.
LOCATION:Riverwood National Golf Course\, Otsego\, MN
UID:e.1321.1150
SEQUENCE:3
DTSTAMP:20260424T193752Z
URL:https://business.i94westchamber.org/events/details/jason-lach-invitational-07-17-2014-1150
END:VEVENT

END:VCALENDAR
