BEGIN:VCALENDAR
VERSION:2.0
PRODID:-//ChamberMaster//Event Calendar 2.0//EN
METHOD:PUBLISH
X-PUBLISHED-TTL:P3D
REFRESH-INTERVAL:P3D
CALSCALE:GREGORIAN
BEGIN:VEVENT
DTSTART:20150331T190000Z
DTEND:20150401T000000Z
X-MICROSOFT-CDO-ALLDAYEVENT:FALSE
SUMMARY:Job Fair 2015
DESCRIPTION:11th Annual Central Minnesota Area Job Fair
X-ALT-DESC;FMTTYPE=text/html:11th Annual Central Minnesota Area Job Fair<br />\n&nbsp\;
LOCATION:Monticello High School 5225 Scholl Boulevard Monticello\, MN 55362
UID:e.1321.1424
SEQUENCE:3
DTSTAMP:20260424T083431Z
URL:https://business.i94westchamber.org/events/details/job-fair-2015-03-31-2015-1424
END:VEVENT

END:VCALENDAR
