BEGIN:VCALENDAR
VERSION:2.0
PRODID:-//ChamberMaster//Event Calendar 2.0//EN
METHOD:PUBLISH
X-PUBLISHED-TTL:P3D
REFRESH-INTERVAL:P3D
CALSCALE:GREGORIAN
BEGIN:VEVENT
DTSTART:20140301T163000Z
DTEND:20140308T213000Z
X-MICROSOFT-CDO-ALLDAYEVENT:FALSE
SUMMARY:Joe's Basket Days March 1\,6\,7\,8
DESCRIPTION:Join us for our 3rd annual plant your own basket or container in the warmth of our greenhouses. We will have a variety of sun and shade plants for your selection. Our staff will assist you with plant selection\, designing and planting. Finally\, Leave your creation behind and we will "plant sit" for you. You will need to pick up your baskets/containers by the end of April. Please call\, 763.441.4487 to register and select a time you'd like to plant between 10:30am to 3:30pm. This is a family activty for all to enjoy. Com on in and welcome Spring!
X-ALT-DESC;FMTTYPE=text/html:Join us for our 3rd annual plant your own basket or container in the warmth of our greenhouses. We will have a variety of sun and shade plants for your selection. Our staff will assist you with plant selection\, designing and planting. Finally\, Leave your creation behind and we will &quot\;plant sit&quot\; for you. You will need to pick up your baskets/containers by the end of April. Please call\, 763.441.4487 to register and select a time you&#39\;d like to plant between 10:30am to 3:30pm. This is a family activty for all to enjoy. Com on in and welcome Spring!
LOCATION:101 Market 8980 Quantrelle Ave. NE Otsego\, MN 55330 763.441.4487
UID:e.1321.1082
SEQUENCE:3
DTSTAMP:20260425T004608Z
URL:https://business.i94westchamber.org/events/details/joe-s-basket-days-march-1-6-7-8-03-01-2014-1082
END:VEVENT

END:VCALENDAR
