BEGIN:VCALENDAR
VERSION:2.0
PRODID:-//ChamberMaster//Event Calendar 2.0//EN
METHOD:PUBLISH
X-PUBLISHED-TTL:P3D
REFRESH-INTERVAL:P3D
CALSCALE:GREGORIAN
BEGIN:VEVENT
DTSTART:20170410T000000Z
DTEND:20170410T013000Z
X-MICROSOFT-CDO-ALLDAYEVENT:FALSE
SUMMARY:John Rutter's Requiem Performance - Word of Peace Lutheran Church
DESCRIPTION:John Rutter's Requiem Performance at Word of Peace Lutheran Church \n\n\n\nRogers\, MN  - The Three Rivers Chorale and Voices of Peace Choir will give a performance of the beautiful Requiem by John Rutter.\n\n \n\nRequiem is a beautiful work that contains a timeless beauty and a richness of spirit that invites both performer and audience to enter into a sacred space celebrating both life and death. Requiem is accompanied by a small ensemble of harp\, organ\, flute\, oboe\, cello and timpani. The score also calls for a glockenspiel for the central movement\, Sanctus\, but will be performed with hand bells\, thanks to a special agreement with the composer\, John Rutter. Featured guest soloist\, Reese Beck from the Land of Lakes Choirboys\, will sing two of the movements.
X-ALT-DESC;FMTTYPE=text/html:<strong><span style="font-family:arial\,sans-serif\;"><span style="font-size:13.5pt\;">John Rutter&#39\;s Requiem Performance at Word of Peace Lutheran Church</span></span></strong>&nbsp\;<br />\n<br />\n<strong><span style="font-family:arial\,sans-serif\;"><span style="font-size:11.5pt\;">Rogers\, MN&nbsp\; - </span></span></strong><span style="font-family:arial\,sans-serif\;"><span style="font-size:11.5pt\;">The Three Rivers Chorale and Voices of Peace Choir will give a performance of the beautiful <em>Requiem</em> by John Rutter.</span></span><br />\n&nbsp\;<br />\n<em><span style="font-family:arial\,sans-serif\;"><span style="font-size:11.0pt\;">Requiem </span></span></em><span style="font-family:arial\,sans-serif\;"><span style="font-size:11.0pt\;">is a beautiful work that contains a timeless beauty and a richness of spirit that invites both performer and audience to enter into a sacred space celebrating both life and death. <em>Requiem </em>is accompanied by a small ensemble of harp\, organ\, flute\, oboe\, cello and timpani. The score also calls for a glockenspiel for the central movement\, Sanctus\, but will be performed with hand bells\, thanks to a special agreement with the composer\, John Rutter. Featured guest soloist\, Reese Beck from the Land of Lakes Choirboys\, will sing two of the movements.</span></span><br />\n&nbsp\;<br />\n<br />\n&nbsp\;
LOCATION:Word of Peace Lutheran Church\, 21705 - 129th Avenue North Rogers.
UID:e.1321.2932
SEQUENCE:3
DTSTAMP:20260421T113446Z
URL:https://business.i94westchamber.org/events/details/john-rutter-s-requiem-performance-word-of-peace-lutheran-church-2932
END:VEVENT

END:VCALENDAR
