BEGIN:VCALENDAR
VERSION:2.0
PRODID:-//ChamberMaster//Event Calendar 2.0//EN
METHOD:PUBLISH
X-PUBLISHED-TTL:P3D
REFRESH-INTERVAL:P3D
CALSCALE:GREGORIAN
BEGIN:VEVENT
DTSTART:20160917T160000Z
DTEND:20160917T180000Z
X-MICROSOFT-CDO-ALLDAYEVENT:FALSE
SUMMARY:Join Bangs from KS95s Morning Show @ Device Pitstop
DESCRIPTION:Join Bangs at Device Pitstop in Maple Grove from 11 to 1.  Check out the KS95 prize wheel\, prizes and more!  Device Pitstop's Pit Crew will be available to answer all of your technology questions and give you a tour of our huge inventory of smartphones\, tablets and computers.  Don't to bring your old phones and computers - we pay $$ on the spot\, or can recycle for free.
X-ALT-DESC;FMTTYPE=text/html:<span style="font-family:droid sans\,arial\,verdana\,sans-serif">Join Bangs at Device Pitstop in Maple Grove from 11 to 1. &nbsp\;Check out the KS95 prize wheel\, prizes and more! &nbsp\;Device Pitstop&#39\;s Pit Crew will be available to answer all of your technology questions and give you a tour of our huge inventory of smartphones\, tablets and computers. &nbsp\;Don&#39\;t to bring your old phones and computers - we pay $$ on the spot\, or can recycle for free.</span>
LOCATION:Device Pitstop 13732 83rd Way Maple Grove
UID:e.1321.2431
SEQUENCE:3
DTSTAMP:20260421T200230Z
URL:https://business.i94westchamber.org/events/details/join-bangs-from-ks95s-morning-show-device-pitstop-2431
END:VEVENT

END:VCALENDAR
