BEGIN:VCALENDAR
VERSION:2.0
PRODID:-//ChamberMaster//Event Calendar 2.0//EN
METHOD:PUBLISH
X-PUBLISHED-TTL:P3D
REFRESH-INTERVAL:P3D
CALSCALE:GREGORIAN
BEGIN:VEVENT
DTSTART:20150312T200000Z
DTEND:20150313T003000Z
X-MICROSOFT-CDO-ALLDAYEVENT:FALSE
SUMMARY:Join CROSS for the 10th Annual Maple Grove Empty Bowls Event
DESCRIPTION:Join CROSS for the 10th annual Maple Grove Empty Bowls event 3 p.m. to 7:30 p.m. Thursday\, March 12\, 2015 at the Maple Grove Community Center\, 12951 Weaver Lake Road.\n\n\n\nSuggested donation is $10 per person\, with an opportunity to purchase select handmade bowls are available for an additional donation. Food and entertainment provided.\n\n\n\nThe annual event benefits CROSS Services Food Shelf\, serving families in Maple Grove\, Osseo\, Rogers\, Dayton\, Champlin\, and Corcoran.\n\n\n\nHelp us fight against hunger as part of the statewide Minnesota FoodShare March Campaign.\n\n\n\nCROSS continues to seek community sponsors for the event. Businesses and organizations interested in contributing can contact Elizabeth Johnson elizabeth@crossservices.org at 763-425-1050
X-ALT-DESC;FMTTYPE=text/html:Join CROSS for the 10th annual Maple Grove Empty Bowls event 3 p.m. to 7:30 p.m. Thursday\, March 12\, 2015 at the Maple Grove Community Center\, 12951 Weaver Lake Road.<br />\n<br />\nSuggested donation is $10 per person\, with an opportunity to purchase select handmade bowls are available for an additional donation. Food and entertainment provided.<br />\n<br />\nThe annual event benefits CROSS Services Food Shelf\, serving families in&nbsp\;Maple Grove\, Osseo\, Rogers\, Dayton\, Champlin\, and Corcoran.<br />\n<br />\nHelp us fight against hunger as part of the statewide Minnesota FoodShare March Campaign.<br />\n<br />\nCROSS continues to seek community sponsors&nbsp\;for the event. Businesses and organizations interested in contributing can contact Elizabeth Johnson elizabeth@crossservices.org at 763-425-1050
LOCATION:Maple Grove Community Center 12951 Weaver Lake Rd.
UID:e.1321.1444
SEQUENCE:3
DTSTAMP:20260424T083625Z
URL:https://business.i94westchamber.org/events/details/join-cross-for-the-10th-annual-maple-grove-empty-bowls-event-03-12-2015-1444
END:VEVENT

END:VCALENDAR
