BEGIN:VCALENDAR
VERSION:2.0
PRODID:-//ChamberMaster//Event Calendar 2.0//EN
METHOD:PUBLISH
X-PUBLISHED-TTL:P3D
REFRESH-INTERVAL:P3D
CALSCALE:GREGORIAN
BEGIN:VEVENT
DTSTART:20160928T230000Z
DTEND:20160929T010000Z
X-MICROSOFT-CDO-ALLDAYEVENT:FALSE
SUMMARY:Kalla Lilly Medina - Complimentary Skin Pen Event
DESCRIPTION:
X-ALT-DESC;FMTTYPE=text/html:
LOCATION:
UID:e.1321.2410
SEQUENCE:3
DTSTAMP:20260421T214709Z
URL:https://business.i94westchamber.org/events/details/kalla-lilly-medina-complimentary-skin-pen-event-2410
END:VEVENT

END:VCALENDAR
