BEGIN:VCALENDAR
VERSION:2.0
PRODID:-//ChamberMaster//Event Calendar 2.0//EN
METHOD:PUBLISH
X-PUBLISHED-TTL:P3D
REFRESH-INTERVAL:P3D
CALSCALE:GREGORIAN
BEGIN:VEVENT
DTSTART:20170310T230000Z
DTEND:20170311T010000Z
X-MICROSOFT-CDO-ALLDAYEVENT:FALSE
SUMMARY:KC Fish Dinner
DESCRIPTION:K.C. FISH DINNER\n\n \n\nWHEN:    Friday\,  March 10\, 2017    5:00 pm   7:00 pm\n\n \n\nWHERE: Mary Queen of Peace Church Hall   St. Martin Campus\n\n                                (downtown Rogers)\n\n \n\n \n\nCOST: 4 yrs & under   - $2.00\n\n             5 yrs   12 yrs   -  $6.00\n\n             13 yrs & older  - $11.00\n\n                        One extra serving of fish (2 pcs) - $1.00\n\n                            \n\n         \n\n \n\nMENU\n\nFish (baked or deep fried)\n\nMacaroni & Cheese\n\nBaked Potatoes\n\nBaked Beans\n\nCole Slaw\n\nDinner Rolls\n\nCookies\n\nBeverages\n\n \n\nSponsored\, cooked\, & served by the      Northwest-Hennepin Knights of Columbus       council # 11941
X-ALT-DESC;FMTTYPE=text/html:<strong><span style="font-size:26.0pt\;">K.C. FISH DINNER</span></strong><br />\n&nbsp\;<br />\n<strong><em><span style="font-size:16.0pt\;">WHEN:</span></em></strong><strong><span style="font-size:16.0pt\;"> &nbsp\;&nbsp\;&nbsp\;</span></strong><span style="font-size:16.0pt\;">Friday\,&nbsp\; March 10\, 2017&nbsp\;&nbsp\;&nbsp\; 5:00 pm &ndash\; 7:00 pm</span><br />\n&nbsp\;<br />\n<strong><em><span style="font-size:16.0pt\;">WHERE:</span></em></strong> <span style="font-size:16.0pt\;">Mary Queen of Peace Church Hall &ndash\; St. Martin Campus</span><br />\n<span style="font-size:16.0pt\;">&nbsp\;&nbsp\;&nbsp\;&nbsp\;&nbsp\;&nbsp\;&nbsp\;&nbsp\;&nbsp\;&nbsp\;&nbsp\;&nbsp\;&nbsp\;&nbsp\;&nbsp\;&nbsp\;&nbsp\;&nbsp\;&nbsp\;&nbsp\;&nbsp\;&nbsp\;&nbsp\;&nbsp\;&nbsp\;&nbsp\;&nbsp\;&nbsp\;&nbsp\;&nbsp\;&nbsp\; (downtown Rogers)</span><br />\n&nbsp\;<br />\n&nbsp\;<br />\n<strong><em><span style="font-size:16.0pt\;">COST:</span></em></strong><strong><span style="font-size:16.0pt\;"> 4 yrs &amp\; under&nbsp\; &nbsp\;- $2.00</span></strong><br />\n<strong><span style="font-size:16.0pt\;">&nbsp\;&nbsp\;&nbsp\;&nbsp\;&nbsp\;&nbsp\;&nbsp\;&nbsp\;&nbsp\;&nbsp\;&nbsp\;&nbsp\; 5 yrs &ndash\; 12 yrs&nbsp\;&nbsp\; - &nbsp\;$6.00</span></strong><br />\n<strong><span style="font-size:16.0pt\;">&nbsp\;&nbsp\;&nbsp\;&nbsp\;&nbsp\;&nbsp\;&nbsp\;&nbsp\;&nbsp\;&nbsp\;&nbsp\;&nbsp\; 13 yrs &amp\; older&nbsp\; - $11.00</span></strong><br />\n<strong><span style="font-size:16.0pt\;">&nbsp\;&nbsp\;&nbsp\;&nbsp\;&nbsp\;&nbsp\;&nbsp\;&nbsp\;&nbsp\;&nbsp\;&nbsp\;&nbsp\;&nbsp\;&nbsp\;&nbsp\;&nbsp\;&nbsp\;&nbsp\;&nbsp\;&nbsp\;&nbsp\;&nbsp\;&nbsp\; One extra serving of fish (2 pcs) - $1.00</span></strong><br />\n<strong><span style="font-size:16.0pt\;">&nbsp\;&nbsp\;&nbsp\;&nbsp\;&nbsp\;&nbsp\;&nbsp\;&nbsp\;&nbsp\;&nbsp\;&nbsp\;&nbsp\;&nbsp\;&nbsp\;&nbsp\;&nbsp\;&nbsp\;&nbsp\;&nbsp\; &nbsp\;&nbsp\;&nbsp\;&nbsp\;&nbsp\;&nbsp\;&nbsp\;&nbsp\;</span></strong><br />\n&nbsp\;&nbsp\;&nbsp\;&nbsp\;&nbsp\;&nbsp\;&nbsp\;&nbsp\;&nbsp\;<br />\n&nbsp\;<br />\n<strong><em><u><span style="font-size:18.0pt\;">MENU</span></u></em></strong><br />\n<strong><span style="font-size:18.0pt\;">Fish (baked or deep fried)</span></strong><br />\n<strong><span style="font-size:18.0pt\;">Macaroni &amp\; Cheese</span></strong><br />\n<strong><span style="font-size:18.0pt\;">Baked Potatoes</span></strong><br />\n<strong><span style="font-size:18.0pt\;">Baked Beans</span></strong><br />\n<strong><span style="font-size:18.0pt\;">Cole Slaw</span></strong><br />\n<strong><span style="font-size:18.0pt\;">Dinner Rolls</span></strong><br />\n<strong><span style="font-size:18.0pt\;">Cookies</span></strong><br />\n<strong><span style="font-size:18.0pt\;">Beverages</span></strong><br />\n&nbsp\;<br />\n<strong><em><span style="font-size:16.0pt\;">Sponsored\, cooked\, &amp\; served by the &nbsp\;&nbsp\;&nbsp\;&nbsp\;&nbsp\;Northwest-Hennepin Knights of Columbus &nbsp\;&nbsp\;&nbsp\;&nbsp\;&nbsp\;&nbsp\;council # 11941</span></em></strong><br />\n&nbsp\;
LOCATION:
UID:e.1321.2621
SEQUENCE:3
DTSTAMP:20260421T125841Z
URL:https://business.i94westchamber.org/events/details/kc-fish-dinner-2621
END:VEVENT

END:VCALENDAR
