BEGIN:VCALENDAR
VERSION:2.0
PRODID:-//ChamberMaster//Event Calendar 2.0//EN
METHOD:PUBLISH
X-PUBLISHED-TTL:P3D
REFRESH-INTERVAL:P3D
CALSCALE:GREGORIAN
BEGIN:VEVENT
DTSTART:20170109T023000Z
DTEND:20170108T180000Z
X-MICROSOFT-CDO-ALLDAYEVENT:FALSE
SUMMARY:KC Lumberjack Breakfast
DESCRIPTION:KC Lumberjack Breakfast \n\n"It's the famous KC Lumberjack Breakfast  you better be hungry!" \n\nWHEN:  Sunday\, January 8\, 2017         \n\n8:30 am   12:00 pm\n\nWHERE:  Mary Queen of Peace Church Hall\, St. Martin Campus\n\n\n\nMENU:  Pancakes\, French Toast\, Sausage & Eggs\, Applesauce\n\n\n\nOrange Juice\, Milk\, & Coffee\n\n\n\n\n\n \n\n \n\n \n\nSponsored\, Cooked\, & Served by the Northwest-Hennepin Knights of Columbus       Council #11941
X-ALT-DESC;FMTTYPE=text/html:<strong><u><span style="font-size:26.0pt\;">KC Lumberjack Breakfast</span></u></strong>&nbsp\;<br />\n<strong><em><span style="font-size:16.0pt\;">&ldquo\;It&rsquo\;s the famous KC Lumberjack Breakfast&hellip\;&hellip\;</span></em></strong><strong><em><span style="font-size:16.0pt\;">you better be hungry!&rdquo\;</span></em></strong>&nbsp\;<br />\n<strong><em><span style="font-size:14.0pt\;">WHEN:</span></em></strong><strong><span style="font-size:14.0pt\;"> &nbsp\;Sunday\, January 8\, 2017&nbsp\;&nbsp\; &nbsp\;&nbsp\;&nbsp\;&nbsp\;&nbsp\;&nbsp\;<br />\n8:30 am &ndash\; 12:00 pm</span></strong><br />\n<strong><em><span style="font-size:14.0pt\;">WHERE:</span></em></strong><strong><span style="font-size:14.0pt\;"> &nbsp\;Mary Queen of Peace Church Hall\, St. Martin Campus</span></strong><br />\n<br />\n<strong><em><span style="font-size:14.0pt\;">MENU:</span></em></strong><strong><span style="font-size:14.0pt\;"> &nbsp\;Pancakes\, French Toast\, Sausage &amp\; Eggs\, Applesauce</span></strong><br />\n<br />\n<strong><span style="font-size:14.0pt\;">Orange Juice\, Milk\, &amp\; Coffee</span></strong><br />\n<br />\n<br />\n&nbsp\;<br />\n&nbsp\;<br />\n&nbsp\;<br />\n<strong>Sponsored\, Cooked\, &amp\; Served by the Northwest-Hennepin Knights of Columbus &nbsp\;&nbsp\;&nbsp\;&nbsp\;&nbsp\;&nbsp\;Council #11941</strong>
LOCATION:
UID:e.1321.2586
SEQUENCE:3
DTSTAMP:20260421T143652Z
URL:https://business.i94westchamber.org/events/details/kc-lumberjack-breakfast-2586
END:VEVENT

END:VCALENDAR
