BEGIN:VCALENDAR
VERSION:2.0
PRODID:-//ChamberMaster//Event Calendar 2.0//EN
METHOD:PUBLISH
X-PUBLISHED-TTL:P3D
REFRESH-INTERVAL:P3D
CALSCALE:GREGORIAN
BEGIN:VEVENT
DTSTART:20150724T150000Z
DTEND:20150724T170000Z
X-MICROSOFT-CDO-ALLDAYEVENT:FALSE
SUMMARY:Kiddie Carnival
DESCRIPTION:Don't Miss the Fun! Join your neighbors and invite your friends to a morning of games\, prizes\, face-painting\, bounce house & more. Don't forget to wear a costume for the costume contest!
X-ALT-DESC;FMTTYPE=text/html:Don&#39\;t Miss the Fun! Join your neighbors and invite your friends to a morning of games\, prizes\, face-painting\, bounce house &amp\; more. Don&#39\;t forget to wear a costume for the costume contest!
LOCATION:Traingle Park Rogers
UID:e.1321.1568
SEQUENCE:3
DTSTAMP:20260422T154132Z
URL:https://business.i94westchamber.org/events/details/kiddie-carnival-07-24-2015-1568
END:VEVENT

END:VCALENDAR
