BEGIN:VCALENDAR
VERSION:2.0
PRODID:-//ChamberMaster//Event Calendar 2.0//EN
METHOD:PUBLISH
X-PUBLISHED-TTL:P3D
REFRESH-INTERVAL:P3D
CALSCALE:GREGORIAN
BEGIN:VEVENT
DTSTART:20140722T180000Z
DTEND:20140722T220000Z
X-MICROSOFT-CDO-ALLDAYEVENT:FALSE
SUMMARY:Kids Day
DESCRIPTION:We are devoting an entire afternoon to the health and wellness of children.  Our goal is to promote wellness at a young age by offering FREE kids examinations and chiropractic adjustments.  We are asking for donations (i.e. school supplies) to support Cross and the kids of the Rogers community.  \n\n\n\nAs an added bonus local businesses such as Cherry Berry\, Papa Murphy's\, DQ\, Skyzone\, etc have generously donated various prizes to be awarded at the event.  There will also be food provided.
X-ALT-DESC;FMTTYPE=text/html:We are devoting an entire afternoon to the health and wellness of children. &nbsp\;Our goal is to promote wellness at a young age by offering FREE kids examinations and chiropractic adjustments. &nbsp\;We are asking for donations (i.e. school supplies) to support Cross and the kids of the Rogers community. &nbsp\;<br />\n<br />\nAs an added bonus local businesses such as Cherry Berry\, Papa Murphy&#39\;s\, DQ\, Skyzone\, etc have generously donated various prizes to be awarded at the event. &nbsp\;There will also be food provided.
LOCATION:HealthSource Chiropractic of Rogers
UID:e.1321.1154
SEQUENCE:3
DTSTAMP:20260424T193743Z
URL:https://business.i94westchamber.org/events/details/kids-day-07-22-2014-1154
END:VEVENT

END:VCALENDAR
