BEGIN:VCALENDAR
VERSION:2.0
PRODID:-//ChamberMaster//Event Calendar 2.0//EN
METHOD:PUBLISH
X-PUBLISHED-TTL:P3D
REFRESH-INTERVAL:P3D
CALSCALE:GREGORIAN
BEGIN:VEVENT
DTSTART:20160824T233000Z
DTEND:20160825T010000Z
X-MICROSOFT-CDO-ALLDAYEVENT:FALSE
SUMMARY:Kidsdance / Interactive DJ music\, contests\, prizes\, and fun for all kids
DESCRIPTION:Enjoy evenings of free family entertainment throughout the summer\, following most of our weekly Farmer's Markets. Performances begin at 6:30 for June 15 through August 31. Each performance has something for everyone and will be held at Triangle Park\, 21400 Rouillard Avenue. For weather updates\, call 763-428-0975 as some events may be rescheduled or moved. Bring your lawn chairs\; as seating may be limited.
X-ALT-DESC;FMTTYPE=text/html:Enjoy evenings of free family entertainment throughout the summer\, following most of our weekly Farmer&rsquo\;s Markets. Performances begin at 6:30 for June 15 through August 31. Each performance has something for everyone and will be held at Triangle Park\, 21400 Rouillard Avenue. For weather updates\, call 763-428-0975 as some events may be rescheduled or moved. Bring your lawn chairs\; as seating may be limited.
LOCATION:
UID:e.1321.2386
SEQUENCE:3
DTSTAMP:20260421T230623Z
URL:https://business.i94westchamber.org/events/details/kidsdance-interactive-dj-music-contests-prizes-and-fun-for-all-kids-08-24-2016-2386
END:VEVENT

END:VCALENDAR
