BEGIN:VCALENDAR
VERSION:2.0
PRODID:-//ChamberMaster//Event Calendar 2.0//EN
METHOD:PUBLISH
X-PUBLISHED-TTL:P3D
REFRESH-INTERVAL:P3D
CALSCALE:GREGORIAN
BEGIN:VEVENT
DTSTART:20160211T233000Z
DTEND:20160212T013000Z
X-MICROSOFT-CDO-ALLDAYEVENT:FALSE
SUMMARY:Ladies Night Out
DESCRIPTION:Ladies Night Out \n\nWe are Having a Party & You are Invited.\n\nSt. Michael Purple Moxie\n\nMake N' Take\n\nEyebrow Waxing\n\nZoChic Boutique Clothing\n\nWine Tasting\n\nMary Kay Makeovers\n\nBotox\n\nLFLC Metabolic Testing\n\nThirty One Bags\n\nSoap Sisters\n\nCrossfit STMA\n\nRodan & Fields\n\n Chair Massage\n\nHome Decor\n\nKeep Collective Designs
X-ALT-DESC;FMTTYPE=text/html:Ladies Night Out&nbsp\;<br />\nWe are Having a Party &amp\; You are Invited.<br />\nSt. Michael Purple Moxie<br />\nMake N&#39\; Take<br />\nEyebrow Waxing<br />\nZoChic Boutique Clothing<br />\nWine Tasting<br />\nMary Kay Makeovers<br />\nBotox<br />\nLFLC Metabolic Testing<br />\nThirty One Bags<br />\nSoap Sisters<br />\nCrossfit STMA<br />\nRodan &amp\; Fields<br />\n&nbsp\;Chair Massage<br />\nHome Decor<br />\nKeep Collective Designs<br />\n&nbsp\;
LOCATION:Healthsource of Albertville 5676 LaCentre Ave Albertville\, MN 55301
UID:e.1321.1854
SEQUENCE:3
DTSTAMP:20260422T065909Z
URL:https://business.i94westchamber.org/events/details/ladies-night-out-02-11-2016-1854
END:VEVENT

END:VCALENDAR
