BEGIN:VCALENDAR
VERSION:2.0
PRODID:-//ChamberMaster//Event Calendar 2.0//EN
METHOD:PUBLISH
X-PUBLISHED-TTL:P3D
REFRESH-INTERVAL:P3D
CALSCALE:GREGORIAN
BEGIN:VEVENT
DTSTART:20161112T230000Z
DTEND:20161113T010000Z
X-MICROSOFT-CDO-ALLDAYEVENT:FALSE
SUMMARY:Ladies Night Out / Medina & Wayzata
DESCRIPTION:Medina-Wayzata- Ladies Night Out\n\n	\n		Time: 5:00PM\n		Where:  The Brost Clinic\n		\n			1421 E Wayzata Blvd\, Wayzata\n		\n		\n		There will be wine\, food\, shopping\, education\, and fun! All provided by more than 25 local vendors\, Oh\, and let's not forget the FREE mini massages. Whatever your pleasure\, there will be something for everyone. Plus\, there will be a GREAT PRIZE GIVEAWAY for everyone who visits all of the vendors. Admission is FREE so come have some fun and bring your friends!\n		 Please RSVP: anne.morehouse@n2pub.com
X-ALT-DESC;FMTTYPE=text/html:<ul>\n	<li style="color:#606060\;line-height:150%\;"><strong><span style="color:purple\;"><span style="font-family:tahoma\,sans-serif\;">Medina-Wayzata- Ladies Night Out</span></span></strong>\n\n	<ul>\n		<li style="color:#606060\;line-height:15.6pt\;-ms-text-size-adjust:100%\;-webkit-text-size-adjust:100%\;"><em><span style="color:dimgray\;"><span style="font-family:tahoma\,sans-serif\;"><span style="font-size:10.5pt\;">Time: 5:00PM</span></span></span></em></li>\n		<li style="color:#606060\;line-height:150%\;-ms-text-size-adjust:100%\;-webkit-text-size-adjust:100%\;"><em><span style="color:dimgray\;"><span style="font-family:tahoma\,sans-serif\;"><span style="font-size:10.5pt\;">Where:&nbsp\;</span></span></span></em> <em><span style="color:dimgray\;"><span style="font-family:tahoma\,sans-serif\;"><span style="font-size:10.5pt\;">The Brost Clinic</span></span></span></em>\n		<ul>\n			<li style="color:#606060\;line-height:150%\;-ms-text-size-adjust:100%\;-webkit-text-size-adjust:100%\;"><em><span style="color:dimgray\;"><span style="font-family:tahoma\,sans-serif\;"><span style="font-size:10.5pt\;">1421 E Wayzata Blvd\, Wayzata</span></span></span></em></li>\n		</ul>\n		</li>\n		<li style="color:#606060\;line-height:150%\;-ms-text-size-adjust:100%\;-webkit-text-size-adjust:100%\;"><em><span style="color:dimgray\;"><span style="font-family:tahoma\,sans-serif\;"><span style="font-size:10.5pt\;">There will be wine\, food\, shopping\, education\, and fun! All provided by more than 25 local vendors\, Oh\, and let&#39\;s not forget the FREE mini massages. Whatever your pleasure\, there will be something for everyone. Plus\, there will be a GREAT PRIZE GIVEAWAY for everyone who visits all of the vendors. Admission is FREE so come have some fun and bring your friends!</span></span></span></em></li>\n		<li style="color:#606060\;line-height:150%\;-ms-text-size-adjust:100%\;-webkit-text-size-adjust:100%\;"><em><span style="color:dimgray\;"><span style="font-family:tahoma\,sans-serif\;"><span style="font-size:10.5pt\;">&#8203\;Please RSVP: <a href="mailto:anne.morehouse@n2pub.com"><span style="font-style:normal\;">anne.morehouse@n2pub.com</span></a></span></span></span></em></li>\n	</ul>\n	</li>\n</ul>\n
LOCATION:
UID:e.1321.2501
SEQUENCE:3
DTSTAMP:20260421T184940Z
URL:https://business.i94westchamber.org/events/details/ladies-night-out-medina-wayzata-2501
END:VEVENT

END:VCALENDAR
