BEGIN:VCALENDAR
VERSION:2.0
PRODID:-//ChamberMaster//Event Calendar 2.0//EN
METHOD:PUBLISH
X-PUBLISHED-TTL:P3D
REFRESH-INTERVAL:P3D
CALSCALE:GREGORIAN
BEGIN:VEVENT
DTSTART:20140921T150000Z
DTEND:20140921T162000Z
X-MICROSOFT-CDO-ALLDAYEVENT:FALSE
SUMMARY:Land of Lakes Choir Boys and National Back to Church Sunday
DESCRIPTION:Join us for this special performance by our very own internationally acclaimed Land of Lakes Choir Boys. They will be singing in a festive worship service under the direction of Aaron Carpenter\, Artistic Director. We are part of a national movement\, National Back to Church Sunday\, and are observing this very special occasion with music by the Land of Lakes Choir Boys. All are welcome regardless of church affiliation or denomination. If you're church hunting\, please visit us this Sunday. You will be warmly welcomed and given space to worship and pray with no questions asked. Refreshments will be served in the Parish Hall following the service.
X-ALT-DESC;FMTTYPE=text/html:Join us for this special performance by our very own internationally acclaimed Land of Lakes Choir Boys. They will be singing in a festive worship service under the direction of Aaron Carpenter\, Artistic Director. We are part of a national movement\, National Back to Church Sunday\, and are observing this very special occasion with music by the Land of Lakes Choir Boys. All are welcome regardless of church affiliation or denomination. If you&#39\;re church hunting\, please visit us this Sunday. You will be warmly welcomed and given space to worship and pray with no questions asked. Refreshments will be served in the Parish Hall following the service.
LOCATION:Holy Trinity Episcopal Church 1326 4th Street NW Elk River\, MN 55330
UID:e.1321.1176
SEQUENCE:3
DTSTAMP:20260424T165922Z
URL:https://business.i94westchamber.org/events/details/land-of-lakes-choir-boys-and-national-back-to-church-sunday-09-21-2014-1176
END:VEVENT

END:VCALENDAR
