BEGIN:VCALENDAR
VERSION:2.0
PRODID:-//ChamberMaster//Event Calendar 2.0//EN
METHOD:PUBLISH
X-PUBLISHED-TTL:P3D
REFRESH-INTERVAL:P3D
CALSCALE:GREGORIAN
BEGIN:VEVENT
DTSTART:20141029T153000Z
DTEND:20141029T170000Z
X-MICROSOFT-CDO-ALLDAYEVENT:FALSE
SUMMARY:Learn Together: Halloween
DESCRIPTION:Toddlers and preschoolers with their parent or caregiver. Enjoy fun Halloween stories\, poems and songs. Come dressed in your Halloween costume to add to the fun.
X-ALT-DESC;FMTTYPE=text/html:Toddlers and preschoolers with their parent or caregiver. Enjoy fun Halloween stories\, poems and songs. Come dressed in your Halloween costume to add to the fun.
LOCATION:Rogers Library 2130 John Milless Drive Rogers\, MN
UID:e.1321.1271
SEQUENCE:3
DTSTAMP:20260424T153851Z
URL:https://business.i94westchamber.org/events/details/learn-together-halloween-10-29-2014-1271
END:VEVENT

END:VCALENDAR
