BEGIN:VCALENDAR
VERSION:2.0
PRODID:-//ChamberMaster//Event Calendar 2.0//EN
METHOD:PUBLISH
X-PUBLISHED-TTL:P3D
REFRESH-INTERVAL:P3D
CALSCALE:GREGORIAN
BEGIN:VEVENT
DTSTART:20150109T140000Z
DTEND:20150109T143000Z
X-MICROSOFT-CDO-ALLDAYEVENT:FALSE
SUMMARY:Legislative Update Webcast- 2015 Series
DESCRIPTION:Engage with our policy staff directly during this interactive webcast. The Minnesota Chamber of Commerce policy team will provide updates on the latest activity at the State Legislature\, including the status of business community priorities during the Legislative Session. The webcasts include timely information about key legislators\, key issues and calls to action.\n\n\n\nDATES\n\nJanuary 9 | February 6 | March 6 | March 27 | April 24 | May 8 | May 20
X-ALT-DESC;FMTTYPE=text/html:Engage with our policy staff directly during this interactive webcast. The Minnesota Chamber of Commerce policy team will provide updates on the latest activity at the State Legislature\, including the status of business community priorities during the Legislative Session. The webcasts include timely information about key legislators\, key issues and calls to action.<br />\n<br />\n<span style="color: rgb(0\, 0\, 51)\;"><strong>DATES</strong></span><br />\nJanuary 9 | February 6 | March 6 | March 27 | April 24 | May 8 | May 20&nbsp\;<br />\n&nbsp\;
LOCATION:
UID:e.1321.1347
SEQUENCE:3
DTSTAMP:20260424T111627Z
URL:https://business.i94westchamber.org/events/details/legislative-update-webcast-2015-series-01-09-2015-1347
END:VEVENT

END:VCALENDAR
