BEGIN:VCALENDAR
VERSION:2.0
PRODID:-//ChamberMaster//Event Calendar 2.0//EN
METHOD:PUBLISH
X-PUBLISHED-TTL:P3D
REFRESH-INTERVAL:P3D
CALSCALE:GREGORIAN
BEGIN:VEVENT
DTSTART:20160210T233000Z
DTEND:20160211T004000Z
X-MICROSOFT-CDO-ALLDAYEVENT:FALSE
SUMMARY:Lenten Soup and Bread Supper
DESCRIPTION:Why not leave the cooking to us this Wednesday? Come and enjoy a delicious meal of homemade soup and bread made by our talented women cooks. Please bring a non-perishable food item for local food shelf\, CAER!
X-ALT-DESC;FMTTYPE=text/html:Why not leave the cooking to us this Wednesday? Come and enjoy a delicious meal of homemade soup and bread made by our talented women cooks. Please bring a non-perishable food item for local food shelf\, CAER!
LOCATION:Holy Trinity Episcopal Church 1326 4th Street NW Elk River\, MN 55330
UID:e.1321.1855
SEQUENCE:3
DTSTAMP:20260422T053530Z
URL:https://business.i94westchamber.org/events/details/lenten-soup-and-bread-supper-02-10-2016-1855
END:VEVENT

END:VCALENDAR
