BEGIN:VCALENDAR
VERSION:2.0
PRODID:-//ChamberMaster//Event Calendar 2.0//EN
METHOD:PUBLISH
X-PUBLISHED-TTL:P3D
REFRESH-INTERVAL:P3D
CALSCALE:GREGORIAN
BEGIN:VEVENT
DTSTART:20140621T210000Z
DTEND:20140621T230000Z
X-MICROSOFT-CDO-ALLDAYEVENT:FALSE
SUMMARY:LINDSAY LAWLER COUNTRY SINGER
DESCRIPTION:Lindsay Lawler is an up and coming country music singer who is touring the country. Right now she is on her Highway Angel Tour which she is traveling all over the country doing 16 appearances at select Travel Centers of America and Petro Stopping Centers free of charge.  We are delighted to announce that she selected TA in Rogers as one of her stops this summer. Stop in for an awesome acoustic concert featuring Lindsay Lawler the Highway Angel.
X-ALT-DESC;FMTTYPE=text/html:Lindsay Lawler is an up and coming country music singer who is touring the country. Right now she is on her Highway Angel Tour which she is traveling all over the country doing 16 appearances at select Travel Centers of America and Petro Stopping Centers free of charge. &nbsp\;We are delighted to announce that she selected TA in Rogers as one of her stops this summer. Stop in for an awesome acoustic concert featuring Lindsay Lawler the Highway Angel.
LOCATION:Travel Centers of America 13400 Rogers Dr Rogers\, MN 55374
UID:e.1321.1146
SEQUENCE:3
DTSTAMP:20260424T210704Z
URL:https://business.i94westchamber.org/events/details/lindsay-lawler-country-singer-06-21-2014-1146
END:VEVENT

END:VCALENDAR
