BEGIN:VCALENDAR
VERSION:2.0
PRODID:-//ChamberMaster//Event Calendar 2.0//EN
METHOD:PUBLISH
X-PUBLISHED-TTL:P3D
REFRESH-INTERVAL:P3D
CALSCALE:GREGORIAN
BEGIN:VEVENT
DTSTART:20150311T160000Z
DTEND:20150311T170000Z
X-MICROSOFT-CDO-ALLDAYEVENT:FALSE
SUMMARY:Live Show! Wendy's Wiggle\, Jiggle and Jam!
DESCRIPTION:All Ages.  Get creative with fabulous musical fun. Everyone in the audience will get a chance to be a star on stage.
X-ALT-DESC;FMTTYPE=text/html:<span style="color:#222222\;"><span style="font-family:calibri\,sans-serif\;"><span style="font-size:11.0pt\;">All Ages.&nbsp\; G</span></span></span><span style="font-family:calibri\,sans-serif\;"><span style="font-size:11.0pt\;">et creative with fabulous musical fun. Everyone in the audience will get a chance to be a star on stage.<span style="color:#222222\;"> </span></span></span>
LOCATION:Rogers Library 21300 John Milless Dr. Rogers\, MN 55374
UID:e.1321.1460
SEQUENCE:3
DTSTAMP:20260424T083642Z
URL:https://business.i94westchamber.org/events/details/live-show-wendy-s-wiggle-jiggle-and-jam-03-11-2015-1460
END:VEVENT

END:VCALENDAR
