BEGIN:VCALENDAR
VERSION:2.0
PRODID:-//ChamberMaster//Event Calendar 2.0//EN
METHOD:PUBLISH
X-PUBLISHED-TTL:P3D
REFRESH-INTERVAL:P3D
CALSCALE:GREGORIAN
BEGIN:VEVENT
DTSTART:20170324T230000Z
DTEND:20170325T013000Z
X-MICROSOFT-CDO-ALLDAYEVENT:FALSE
SUMMARY:Live True Yoga "Personalized Palette Party"
DESCRIPTION:Mark your calendars! Friday\, March 24th Live True Yoga is getting crafty! We will be hosting a Personalized Palette Party starting at 6:00 pm. You will get to assemble and paint your wooden palette to add your own personal touch! Join us for some wine\, chocolate and good company.\nSign up before spots get taken\, there is limited space!
X-ALT-DESC;FMTTYPE=text/html:<div class="description group userHTML" id="enrollmentDesc">\n<div>Mark your calendars! Friday\, March 24th Live True Yoga is getting crafty! We will be hosting a Personalized Palette Party starting at 6:00 pm. You will get to assemble and paint your wooden palette to add your own personal touch! Join us for some wine\, chocolate and good company.\n<p>Sign up before spots get taken\, there is limited space!</p>\n</div>\n</div>\n
LOCATION:Live True Yoga Studio
UID:e.1321.2913
SEQUENCE:3
DTSTAMP:20260421T113059Z
URL:https://business.i94westchamber.org/events/details/live-true-yoga-personalized-palette-party-2913
END:VEVENT

END:VCALENDAR
