BEGIN:VCALENDAR
VERSION:2.0
PRODID:-//ChamberMaster//Event Calendar 2.0//EN
METHOD:PUBLISH
X-PUBLISHED-TTL:P3D
REFRESH-INTERVAL:P3D
CALSCALE:GREGORIAN
BEGIN:VEVENT
DTSTART:20170316T183000Z
DTEND:20170316T223000Z
X-MICROSOFT-CDO-ALLDAYEVENT:FALSE
SUMMARY:Loretto Blood Drive
DESCRIPTION:
X-ALT-DESC;FMTTYPE=text/html:
LOCATION:150 Railway Street E Loretto
UID:e.1321.2625
SEQUENCE:3
DTSTAMP:20260421T112730Z
URL:https://business.i94westchamber.org/events/details/loretto-blood-drive-2625
END:VEVENT

END:VCALENDAR
