BEGIN:VCALENDAR
VERSION:2.0
PRODID:-//ChamberMaster//Event Calendar 2.0//EN
METHOD:PUBLISH
X-PUBLISHED-TTL:P3D
REFRESH-INTERVAL:P3D
CALSCALE:GREGORIAN
BEGIN:VEVENT
DTSTART:20141011T210000Z
DTEND:20141012T010000Z
X-MICROSOFT-CDO-ALLDAYEVENT:FALSE
SUMMARY:Loretto Fire Open House
DESCRIPTION:Come join us for all the activities and great food.\n\n\n\nWe're having a pig roast! With potato salad\, baked beans and coleslaw!\n\n\n\nEnjoy fire truck rides\, face painting\, balloon animals made by a clown\, deomstrations\, inflateables\, games\, and drawings!\n\n\n\nNew this year we will have a silent auction! Items include\, events with firefighters such as having a birthday party at the station or dinner with the fire chief\, plus many more fun and exciting firefigher auctions! Also\, an Origins gift basket\, massage gift certificate\, tackle\, fleece blankets and more! We will also be accepting silent auction donations\, please contact Ashley at acorourke16@yahoo.com or 952-270-9932 with any donations!\n\n\n\nWe look forward to seeing you there!
X-ALT-DESC;FMTTYPE=text/html:<span class="fsl">Come join us for all the activities and great food.<br />\n<br />\nWe&#39\;re having a pig roast! With potato salad\, baked beans and coleslaw!<br />\n<br />\nEnjoy fire truck rides\, face painting\, balloon animals made by a clown\, deomstrations\, inflateables\, games\, and drawings!<br />\n<br />\nNew this year we will have a silent auction! Items include\, events with firefighters such as having a birthday party at the station or dinner with the fire chief\, plus many more fun and exciting firefigher auctions! Also\, an Origins gift basket\, massage gift certificate\, tackle\, fleece blankets and more! We will also be accepting silent auction donations\, please contact Ashley at acorourke16@yahoo.com or 952-270-9932 with any donations!<br />\n<br />\nWe look forward to seeing you there!</span>
LOCATION:
UID:e.1321.1235
SEQUENCE:3
DTSTAMP:20260424T153245Z
URL:https://business.i94westchamber.org/events/details/loretto-fire-open-house-10-11-2014-1235
END:VEVENT

END:VCALENDAR
