BEGIN:VCALENDAR
VERSION:2.0
PRODID:-//ChamberMaster//Event Calendar 2.0//EN
METHOD:PUBLISH
X-PUBLISHED-TTL:P3D
REFRESH-INTERVAL:P3D
CALSCALE:GREGORIAN
BEGIN:VEVENT
DTSTART;VALUE=DATE:20130914
DTEND;VALUE=DATE:20130915
TRANSP:TRANSPARENT
X-MICROSOFT-CDO-ALLDAYEVENT:TRUE
SUMMARY:Loretto's 14th Annual Fun Fest
DESCRIPTION:September 14th\, 2013 - Loretto's 14th annual Fun Fest! \n\n	\n\n	\n\n	Festivities begin at 1 pm with Children's Activities in the Lion's Park:\n\n	\n\n	Inflatables & Kiddie Train ~ 1-7 pm\n\n	Rock Climbing Wall ~ 2-7 pm\n\n	K9 Demonstration ~ 2 pm\n\n	Pony Rides ~ 3-5 pm\n\n	Gonzo the Clown ~ 4-7 pm\n\n	\n\n	\n\n	\n\n	Wrist Bands - $10/child or $30/family\n\n	Wrist bands required for participation in all children's events\n\n	(plus Hot Air balloon) except K9 Demonstration. \n\n	Purchase wrist bands at the event @ Lion's Park concession stand. \n\n	First clue for the Medallion Hunt will be posted at 1 pm\n\n	@ Lion's Park concession stand\,\n\n	Loretto Market** along West Railway Street with great vendors ~ 1-7 pm\,\n\n	RE/Max Hot Air Balloon ~ 5:45-7:45:  tethered rides\,\n\n	10 yrs + (weather permitting)\,\n\n	FIREWORKS at dusk (about 8 pm)\,\n\n	Closing the night with a STREET DANCE ~ 8:30-midnight\n\n	With THE IRRESISTIBLES Sweet Soul Show featuring Mick Sterling\,\n\n	Cate Fierro and Katie Gearty\, www.irresistiblesmusic.com\n\n	\n\n	~ DJ\, Concessions\, delicious food & beer gardens all day ~\n\n	**For more information about the Loretto Market see form below.\n\n	\n\n	\n\n	\n\n	\n\n	Fun Fest Booster Buttons\n\n	The purchase of a Fun Fest Booster Button gains entrance\n\n	to the street dance and Hot Air Balloon tethered rides (weather permitting).\n\n	In addition\, your name will be entered into drawings for prizes donated by local businesses.\n\n	$10 Pre-Sale\n\n	$12 day of Fun Fest\n\n	$10 day of with donation of Food Shelf item\n\n	Buttons may be purchased before the event at the following locations: \n\n	21st Century Bank\, Loretto City Hall\, Loretto Post Office\, \n\n	Detour 19\, RE/Max and Koch's Korner.\n\n	Watch for updates on locations selling Booster Buttons.
X-ALT-DESC;FMTTYPE=text/html:<span style="font-size:14pt\;"><span style="font-family:arial\,helvetica\,sans-serif\;"><strong>September 14th\, 2013</strong> - <strong>Loretto&#39\;s 14th annual Fun Fest!</strong> </span></span>\n<div style="text-align:center\;">\n	<br />\n	<br />\n	<span style="font-family:comic sans ms\,sans-serif\;"><span style="font-family:arial\,helvetica\,sans-serif\;">Festivities begin at 1 pm with </span><span style="font-weight:bold\;"><span style="font-size:12pt\;">Children&rsquo\;s Activities in the Lion&rsquo\;s Park</span></span></span><span style="font-weight:bold\;"><span style="font-family:arial\,helvetica\,sans-serif\;">:</span></span><br />\n	<br />\n	Inflatables &amp\; Kiddie Train ~ 1-7 pm<br />\n	Rock Climbing Wall ~ 2-7 pm<br />\n	K9 Demonstration ~ 2 pm<br />\n	Pony Rides ~ 3-5 pm<br />\n	Gonzo the Clown ~ 4-7 pm<br />\n	<br />\n	<br />\n	<br />\n	<span style="font-weight:bold\;"><span style="color:#0000ff\;"><span style="font-family:arial\;"><span style="font-size:9pt\;">Wrist Bands - $10/child or $30/family</span></span></span></span><br />\n	<span style="color:#0000ff\;"><span style="font-family:arial\;"><span style="font-size:9pt\;">Wrist bands required for participation</span></span></span><span style="font-family:arial\;"><span style="font-size:9pt\;"> in all children&rsquo\;s events<br />\n	(plus Hot Air balloon) except K9 Demonstration. </span></span><br />\n	<span style="color:#0000ff\;"><span style="font-family:arial\;"><span style="font-size:9pt\;">Purchase wrist bands at the event</span></span></span> <span style="font-family:arial\;"><span style="font-size:9pt\;">@ Lion&rsquo\;s Park concession stand.</span></span>&nbsp\;<br />\n	<span style="font-family:arial\,helvetica\,sans-serif\;">First clue for the </span><span style="font-weight:bold\;"><span style="font-size:12pt\;">Medallion Hunt </span></span>will be posted at 1 pm<br />\n	@ Lion&rsquo\;s Park concession stand\,<br />\n	<span style="font-weight:bold\;"><span style="font-size:12pt\;">Loretto Market** </span></span>along West Railway Street with great vendors ~ 1-7 pm\,<br />\n	<span style="font-weight:bold\;"><span style="font-size:12pt\;">RE/Max Hot Air Balloon </span></span>~ 5:45-7:45:&nbsp\; tethered rides\,<br />\n	10 yrs + (weather permitting)\,<br />\n	<span style="font-family:arial\,helvetica\,sans-serif\;"><span style="font-weight:bold\;"><span style="font-size:12pt\;">FIREWORKS </span></span>at dusk (about 8 pm)\,</span><br />\n	<span style="font-family:arial\,helvetica\,sans-serif\;">Closing the night with a </span><span style="font-weight:bold\;"><span style="font-size:12pt\;">STREET DANCE </span></span>~ 8:30-midnight<br />\n	With <span style="font-style:italic\;font-weight:bold\;"><span style="font-size:12pt\;">THE IRRESISTIBLES Sweet Soul Show featuring Mick Sterling\,</span></span><br />\n	<span style="font-style:italic\;font-weight:bold\;"><span style="color:black\;"><span style="font-size:12pt\;">Cate Fierro and Katie Gearty\, </span></span></span><a href="http://www.irresistiblesmusic.com"><span style="font-style:italic\;text-decoration:underline\;font-weight:bold\;"><span style="font-size:12pt\;">www.irresistiblesmusic.com</span></span></a><br />\n	<br />\n	<span style="font-weight:bold\;"><span style="font-family:arial\,helvetica\,sans-serif\;"><span style="font-size:12pt\;">~ DJ\, Concessions\, delicious food &amp\; beer gardens all day ~</span></span></span><br />\n	<span style="font-family:arial\,helvetica\,sans-serif\;">**For more information about the </span><span style="font-weight:bold\;"><span style="font-size:12pt\;">Loretto Market </span></span>see form below.<br />\n	<br />\n	<br />\n	<br />\n	<br />\n	<span style="text-decoration:underline\;font-weight:bold\;"><span style="color:#ff0000\;"><span style="font-family:arial\,helvetica\,sans-serif\;"><span style="font-size:12pt\;">Fun Fest Booster Buttons</span></span></span></span><br />\n	<span style="font-family:arial\,helvetica\,sans-serif\;"><span style="color:#ff0000\;">The purchase of a Fun Fest Booster Button gains entrance<br />\n	to the street dance and Hot Air Balloon tethered rides (weather permitting).<br />\n	In addition\, your name will be entered into drawings for prizes donated by local businesses.</span></span><br />\n	<span style="font-family:arial\,helvetica\,sans-serif\;"><strong><span style="color:#ff0000\;">$10 Pre-Sale<br />\n	$12 day of Fun Fest</span></strong></span><br />\n	<strong><span style="color:#ff0000\;">$10 day of with donation of Food Shelf item</span></strong><br />\n	<span style="color:#ff0000\;"><span style="font-family:arial\,helvetica\,sans-serif\;">Buttons may be purchased before the event at the following locations:&nbsp\;<br />\n	<strong>21st Century Bank\, Loretto City Hall\, Loretto Post Office\, </strong><br />\n	<strong>Detour 19\, RE/Max and Koch&rsquo\;s Korner.</strong></span></span><br />\n	<span style="font-family:arial\,helvetica\,sans-serif\;"><span style="color:#ff0000\;">Watch for updates on locations selling Booster Buttons.</span></span><br />\n	<br />\n	<br />\n	&nbsp\;</div>\n
LOCATION:Loretto\, MN
UID:e.1321.1007
SEQUENCE:3
DTSTAMP:20260425T103911Z
URL:https://business.i94westchamber.org/events/details/loretto-s-14th-annual-fun-fest-09-14-2013-1007
END:VEVENT

END:VCALENDAR
