BEGIN:VCALENDAR
VERSION:2.0
PRODID:-//ChamberMaster//Event Calendar 2.0//EN
METHOD:PUBLISH
X-PUBLISHED-TTL:P3D
REFRESH-INTERVAL:P3D
CALSCALE:GREGORIAN
BEGIN:VEVENT
DTSTART:20221019T163000Z
DTEND:20221019T173000Z
X-MICROSOFT-CDO-ALLDAYEVENT:FALSE
SUMMARY:Lunch Bunch at Bucca
DESCRIPTION:Join us for lunch and networking. This is a great opportunity to share stories and learn about local business. This month we will be joined by the Osseo School District who will speak briefly about their Building a Better Future referendum.
X-ALT-DESC;FMTTYPE=text/html:<span style="font-size:14px\;"><span style="font-family:arial\;">Join us for lunch and networking. This is a great opportunity to share stories and learn about local business. This month we will be joined by the Osseo School District who will speak briefly about their&nbsp\;<span style="text-size-adjust: auto\;"><span style="margin: 0px\;"><i>Building a Better Future</i><span style="margin: 0px\;">&nbsp\;</span>referendum.</span></span></span></span>
LOCATION:Buca\, Maple Grove
UID:e.1321.7412
SEQUENCE:3
DTSTAMP:20260421T125930Z
URL:https://business.i94westchamber.org/events/details/lunch-bunch-at-bucca-7412
END:VEVENT

END:VCALENDAR
