BEGIN:VCALENDAR
VERSION:2.0
PRODID:-//ChamberMaster//Event Calendar 2.0//EN
METHOD:PUBLISH
X-PUBLISHED-TTL:P3D
REFRESH-INTERVAL:P3D
CALSCALE:GREGORIAN
BEGIN:VEVENT
DTSTART:20170525T043000Z
DTEND:20170524T173000Z
X-MICROSOFT-CDO-ALLDAYEVENT:FALSE
SUMMARY:Lunch Bunch - Clive's Roadhouse
DESCRIPTION:Join fellow chamber members for networking!
X-ALT-DESC;FMTTYPE=text/html:Join fellow chamber members for networking!<br />\n&nbsp\;
LOCATION:Clive's Roadhouse Rogers\, MN
UID:e.1321.2998
SEQUENCE:3
DTSTAMP:20260421T083536Z
URL:https://business.i94westchamber.org/events/details/lunch-bunch-clive-s-roadhouse-2998
END:VEVENT

END:VCALENDAR
