BEGIN:VCALENDAR
VERSION:2.0
PRODID:-//ChamberMaster//Event Calendar 2.0//EN
METHOD:PUBLISH
X-PUBLISHED-TTL:P3D
REFRESH-INTERVAL:P3D
CALSCALE:GREGORIAN
BEGIN:VEVENT
DTSTART:20161127T170000Z
DTEND:20161127T190000Z
X-MICROSOFT-CDO-ALLDAYEVENT:FALSE
SUMMARY:Lunch & Gingerbread House
DESCRIPTION:Create a holiday tradition!\n\n			A special kick off to the holiday season and fun for any age. Enjoy lunch\, then let your creative juices flow to decorate a gingerbread house to take home! \n		\n		\n			 \n		\n		\n			Includes lunch for two and one gingerbread house to decorate\, $65. Extra lunch\, $15.\n\n			Reserve by November 23rd for just $55\n\n			(extra lunch $15)\n			Call to reserve:\n\n			218.829.2811
X-ALT-DESC;FMTTYPE=text/html:<table align="center" border="0" cellpadding="0" cellspacing="0" style="width:83.0%\;border-collapse:collapse\;" width="83%">\n	<tbody>\n		<tr>\n			<td style="padding:0in 0in 0in 0in\;"><span style="color:#4C4C4C\;"><span style="font-family:arial\,sans-serif\;"><span style="font-size:13.0pt\;">Create a holiday tradition!<br />\n			A special kick off to the holiday season and fun for any age. Enjoy lunch\, then let your creative juices flow to decorate a gingerbread house to take home! </span></span></span></td>\n		</tr>\n		<tr style="height:10px\;">\n			<td style="padding:0in 0in 0in 0in\;height:10px\;">&nbsp\;</td>\n		</tr>\n		<tr>\n			<td style="padding:0in 0in 0in 0in\;"><em><span style="color:#0A7645\;"><span style="font-family:arial\,sans-serif\;"><span style="font-size:13.0pt\;">Includes lunch for two and one gingerbread house to decorate\, $65. Extra lunch\, $15.</span></span></span></em><br />\n			<em><span style="color:#0A7645\;"><span style="font-family:arial\,sans-serif\;"><span style="font-size:13.0pt\;"><em><span style="font-family:arial\,sans-serif\;">Reserve by November 23rd for just $55</span></em><br />\n			<em><span style="font-family:arial\,sans-serif\;">(extra lunch $15)</span></em></span></span></span></em>\n			<div data-canvas-width="142.1225" style="left: 350.35px\; top: 1209.36px\; font-size: 25px\; font-family: sans-serif\; transform: scaleX(0.84538)\;">Call to reserve:</div>\n\n			<div data-canvas-width="176.84699999999998" style="left: 499.223px\; top: 1202.27px\; font-size: 30px\; font-family: sans-serif\; transform: scaleX(0.975618)\;">218.829.2811</div>\n			</td>\n		</tr>\n	</tbody>\n</table>\n\n<div style="clear:both\;">&nbsp\;</div>\n
LOCATION:Madden's on Gull Lake
UID:e.1321.2526
SEQUENCE:3
DTSTAMP:20260421T184030Z
URL:https://business.i94westchamber.org/events/details/lunch-gingerbread-house-2526
END:VEVENT

END:VCALENDAR
