BEGIN:VCALENDAR
VERSION:2.0
PRODID:-//ChamberMaster//Event Calendar 2.0//EN
METHOD:PUBLISH
X-PUBLISHED-TTL:P3D
REFRESH-INTERVAL:P3D
CALSCALE:GREGORIAN
BEGIN:VEVENT
DTSTART:20150312T163000Z
DTEND:20150312T180000Z
X-MICROSOFT-CDO-ALLDAYEVENT:FALSE
SUMMARY:Lunch with Sheriff Rich Stanek
DESCRIPTION:The North Hennepin Chamber of Commerce is excited to  welcome HENNEPIN COUNTY SHERIFF RICH STANEK as our featured speaker at the March 12\, 2015 luncheon.\n\n\n\nPlease reference our calendar again for further details.
X-ALT-DESC;FMTTYPE=text/html:<span style="font-family: comic sans ms\;">The North Hennepin Chamber of Commerce&nbsp\;is excited to&nbsp\; welcome HENNEPIN COUNTY SHERIFF RICH STANEK as our featured speaker at the March 12\, 2015 luncheon.<br />\n<br />\nPlease reference our calendar again for further details.</span>
LOCATION:
UID:e.1321.1392
SEQUENCE:3
DTSTAMP:20260424T083428Z
URL:https://business.i94westchamber.org/events/details/lunch-with-sheriff-rich-stanek-03-12-2015-1392
END:VEVENT

END:VCALENDAR
