BEGIN:VCALENDAR
VERSION:2.0
PRODID:-//ChamberMaster//Event Calendar 2.0//EN
METHOD:PUBLISH
X-PUBLISHED-TTL:P3D
REFRESH-INTERVAL:P3D
CALSCALE:GREGORIAN
BEGIN:VEVENT
DTSTART:20150423T161500Z
DTEND:20150423T180000Z
X-MICROSOFT-CDO-ALLDAYEVENT:FALSE
SUMMARY:Lunch with Twins President David St. Peter
DESCRIPTION:Announcing a return visit by the Minnesota TWINS President\, David St. Peter.\n\nIf you were unable to attend in 2010 you won't want to miss his presentation him this time!\n\nIt's spring\, and the TWINS are starting to PLAY BALL - so let's support them by showing David St. Peter a good turn out at this event.
X-ALT-DESC;FMTTYPE=text/html:<span style="color: rgb(255\, 0\, 0)\;"><strong>Announcing a return visit by the Minnesota TWINS President\, David St. Peter.<br />\n<span style="font-size: 14px\;"><span style="font-family: comic sans ms\;">If you were unable to attend in 2010 you won&#39\;t want to miss his presentation him this time!<br />\nIt&#39\;s spring\, and the TWINS are starting to PLAY BALL - so let&#39\;s support them by showing David St. Peter a good turn out at this event.</span></span></strong></span>
LOCATION:
UID:e.1321.1393
SEQUENCE:3
DTSTAMP:20260422T195754Z
URL:https://business.i94westchamber.org/events/details/lunch-with-twins-president-david-st-peter-04-23-2015-1393
END:VEVENT

END:VCALENDAR
