BEGIN:VCALENDAR
VERSION:2.0
PRODID:-//ChamberMaster//Event Calendar 2.0//EN
METHOD:PUBLISH
X-PUBLISHED-TTL:P3D
REFRESH-INTERVAL:P3D
CALSCALE:GREGORIAN
BEGIN:VEVENT
DTSTART:20150523T180000Z
DTEND:20150523T190000Z
X-MICROSOFT-CDO-ALLDAYEVENT:FALSE
SUMMARY:Make This: Fashion Design
DESCRIPTION:Deconstruct\, up-cycle and modify old clothing. Basic sewing\, appliqu  and surface design techniques that push the limits of ordinary fashion will be demonstrated. Bring along a few pieces of clothing that you aren't afraid to cut-up\, color or fray.   Grades 7-12
X-ALT-DESC;FMTTYPE=text/html:<span style="font-family:calibri\,sans-serif\;"><span style="font-size:11.0pt\;">Deconstruct\, up-cycle and modify old clothing. Basic sewing\, appliqu&eacute\; and surface design techniques that push the limits of ordinary fashion will be demonstrated. Bring along a few pieces of clothing that you aren&#39\;t afraid to cut-up\, color or fray.&nbsp\;&nbsp\; Grades 7-12</span></span>
LOCATION:Rogers Library 21300 John Milless Dr. Rogers\, MN 55374
UID:e.1321.1488
SEQUENCE:3
DTSTAMP:20260422T183552Z
URL:https://business.i94westchamber.org/events/details/make-this-fashion-design-05-23-2015-1488
END:VEVENT

END:VCALENDAR
