BEGIN:VCALENDAR
VERSION:2.0
PRODID:-//ChamberMaster//Event Calendar 2.0//EN
METHOD:PUBLISH
X-PUBLISHED-TTL:P3D
REFRESH-INTERVAL:P3D
CALSCALE:GREGORIAN
BEGIN:VEVENT
DTSTART:20150323T233000Z
DTEND:20150324T003000Z
X-MICROSOFT-CDO-ALLDAYEVENT:FALSE
SUMMARY:Manage Your Spring Yard and Gardens
DESCRIPTION:Let's get off to a good start in the garden this year! What are the must-do's for the spring lawn?        What would you like to see growing in your garden this year? How to plan ahead for success!
X-ALT-DESC;FMTTYPE=text/html:<span style="font-family:calibri\,sans-serif\;"><span style="font-size:11.0pt\;">Let&#39\;s get off to a good start in the garden this year! What are the must-do&#39\;s for the spring lawn?&nbsp\;&nbsp\;&nbsp\;&nbsp\;&nbsp\;&nbsp\;&nbsp\; What would you like to see growing in your garden this year? How to plan ahead for success! </span></span>
LOCATION:Rogers Library 21300 John Milless Dr. Rogers\, MN 55374
UID:e.1321.1485
SEQUENCE:3
DTSTAMP:20260424T083440Z
URL:https://business.i94westchamber.org/events/details/manage-your-spring-yard-and-gardens-03-23-2015-1485
END:VEVENT

END:VCALENDAR
