BEGIN:VCALENDAR
VERSION:2.0
PRODID:-//ChamberMaster//Event Calendar 2.0//EN
METHOD:PUBLISH
X-PUBLISHED-TTL:P3D
REFRESH-INTERVAL:P3D
CALSCALE:GREGORIAN
BEGIN:VEVENT
DTSTART:20150323T233000Z
DTEND:20150324T003000Z
X-MICROSOFT-CDO-ALLDAYEVENT:FALSE
SUMMARY:Manage Your Spring Yard & Gardens
DESCRIPTION:Let's get off to a good start in the garden this year! What are the must-do's for the spring lawn? What would you like to see growing in your garden this year?\n\nHow to plan for success!
X-ALT-DESC;FMTTYPE=text/html:Let&#39\;s get off to a good start in the garden this year! What are the must-do&#39\;s for the spring lawn? What would you like to see growing in your garden this year?<br />\nHow to plan for success!
LOCATION:Rogers Library
UID:e.1321.1382
SEQUENCE:3
DTSTAMP:20260424T083404Z
URL:https://business.i94westchamber.org/events/details/manage-your-spring-yard-gardens-03-23-2015-1382
END:VEVENT

END:VCALENDAR
